BEGIN:VCALENDAR
VERSION:2.0
PRODID:-//TechFluent Academy - ECPv6.15.11//NONSGML v1.0//EN
CALSCALE:GREGORIAN
METHOD:PUBLISH
X-ORIGINAL-URL:https://techfluentacademy.org
X-WR-CALDESC:Events for TechFluent Academy
REFRESH-INTERVAL;VALUE=DURATION:PT1H
X-Robots-Tag:noindex
X-PUBLISHED-TTL:PT1H
BEGIN:VTIMEZONE
TZID:America/Chicago
BEGIN:DAYLIGHT
TZOFFSETFROM:-0600
TZOFFSETTO:-0500
TZNAME:CDT
DTSTART:20240310T080000
END:DAYLIGHT
BEGIN:STANDARD
TZOFFSETFROM:-0500
TZOFFSETTO:-0600
TZNAME:CST
DTSTART:20241103T070000
END:STANDARD
BEGIN:DAYLIGHT
TZOFFSETFROM:-0600
TZOFFSETTO:-0500
TZNAME:CDT
DTSTART:20250309T080000
END:DAYLIGHT
BEGIN:STANDARD
TZOFFSETFROM:-0500
TZOFFSETTO:-0600
TZNAME:CST
DTSTART:20251102T070000
END:STANDARD
BEGIN:DAYLIGHT
TZOFFSETFROM:-0600
TZOFFSETTO:-0500
TZNAME:CDT
DTSTART:20260308T080000
END:DAYLIGHT
BEGIN:STANDARD
TZOFFSETFROM:-0500
TZOFFSETTO:-0600
TZNAME:CST
DTSTART:20261101T070000
END:STANDARD
END:VTIMEZONE
BEGIN:VEVENT
DTSTART;TZID=America/Chicago:20250805T090000
DTEND;TZID=America/Chicago:20250805T160000
DTSTAMP:20260422T095423
CREATED:20250614T215101Z
LAST-MODIFIED:20251113T165714Z
UID:5655-1754384400-1754409600@techfluentacademy.org
SUMMARY:Solutions & Solution Management\, with Andrea Lange
DESCRIPTION:Introduction to Solution Management & Application Lifecycle Management \nwith Andrea Lange \nTechnology Consulting Manager at RSM US LLP \nIn this session\, we will introduce the concept of Solution Management as it applies within the Microsoft Ecosystem. At the completion of this course\, you will understand the difference between unmanaged and managed solutions and when and why to use each type. We will discuss solution objects and components and practice the creation\, modification\, import and export. And\, we will discuss the concepts around Application Lifecycle Management – what it is and how Solutions fit into ALM as a Best Practice. Reference Materials are provided. \nThis course was designed by Heidi Neuhauser of Reenhanced and has been enhanced by Andrea Lange of RSM.
URL:https://techfluentacademy.org/event/solutions-solution-management-with-andrea-lange/
LOCATION:Sabathani Community Center\, 310 E. 38th Street\, Minneapolis\, MN\, 55409\, United States
CATEGORIES:2025 Cohort,CE-Power Platform Certification Track
ORGANIZER;CN="TechFluent Academy":MAILTO:carol@techfluentacademy.org
END:VEVENT
END:VCALENDAR