BEGIN:VCALENDAR
VERSION:2.0
PRODID:-//TechFluent Academy - ECPv6.15.11//NONSGML v1.0//EN
CALSCALE:GREGORIAN
METHOD:PUBLISH
X-WR-CALNAME:TechFluent Academy
X-ORIGINAL-URL:https://techfluentacademy.org
X-WR-CALDESC:Events for TechFluent Academy
REFRESH-INTERVAL;VALUE=DURATION:PT1H
X-Robots-Tag:noindex
X-PUBLISHED-TTL:PT1H
BEGIN:VTIMEZONE
TZID:America/Chicago
BEGIN:DAYLIGHT
TZOFFSETFROM:-0600
TZOFFSETTO:-0500
TZNAME:CDT
DTSTART:20250309T080000
END:DAYLIGHT
BEGIN:STANDARD
TZOFFSETFROM:-0500
TZOFFSETTO:-0600
TZNAME:CST
DTSTART:20251102T070000
END:STANDARD
BEGIN:DAYLIGHT
TZOFFSETFROM:-0600
TZOFFSETTO:-0500
TZNAME:CDT
DTSTART:20260308T080000
END:DAYLIGHT
BEGIN:STANDARD
TZOFFSETFROM:-0500
TZOFFSETTO:-0600
TZNAME:CST
DTSTART:20261101T070000
END:STANDARD
BEGIN:DAYLIGHT
TZOFFSETFROM:-0600
TZOFFSETTO:-0500
TZNAME:CDT
DTSTART:20270314T080000
END:DAYLIGHT
BEGIN:STANDARD
TZOFFSETFROM:-0500
TZOFFSETTO:-0600
TZNAME:CST
DTSTART:20271107T070000
END:STANDARD
END:VTIMEZONE
BEGIN:VEVENT
DTSTART;TZID=America/Chicago:20260501T133000
DTEND;TZID=America/Chicago:20260501T141500
DTSTAMP:20260421T222621
CREATED:20251027T184859Z
LAST-MODIFIED:20260420T192552Z
UID:6562-1777642200-1777644900@techfluentacademy.org
SUMMARY:Group 4: Automation Capstone Project Presentation
DESCRIPTION:CE / Power Platform Project Presentations \nAll students will present their projects for feedback from Industry Professionals. \nPanel of Judges will review via Teams Meeting; Presentations will be given in-person and streamed on camera via Teams.
URL:https://techfluentacademy.org/event/2026-cohort-ce-power-platform-project-presentations-3/
CATEGORIES:2026 Cohort,CE-Power Platform Certification Track,Live Virtual
ORGANIZER;CN="TechFluent Academy":MAILTO:carol@techfluentacademy.org
END:VEVENT
BEGIN:VEVENT
DTSTART;TZID=America/Chicago:20260504T090000
DTEND;TZID=America/Chicago:20260504T160000
DTSTAMP:20260421T222621
CREATED:20251029T145551Z
LAST-MODIFIED:20251223T184507Z
UID:6565-1777885200-1777910400@techfluentacademy.org
SUMMARY:2026 Cohort: Advanced Microsoft Excel
DESCRIPTION:Advanced Microsoft Excel
URL:https://techfluentacademy.org/event/2026-cohort-advanced-microsoft-excel/
CATEGORIES:2026 Cohort,Live Virtual,Microsoft Fundamentals,Tech Fundamentals Class
ORGANIZER;CN="TechFluent Academy":MAILTO:carol@techfluentacademy.org
END:VEVENT
BEGIN:VEVENT
DTSTART;TZID=America/Chicago:20260505T153000
DTEND;TZID=America/Chicago:20260505T170000
DTSTAMP:20260421T222621
CREATED:20251029T150542Z
LAST-MODIFIED:20251223T184550Z
UID:6570-1777995000-1778000400@techfluentacademy.org
SUMMARY:2026 Cohort: Self-Study - Getting Started With Power BI
DESCRIPTION:Getting Started With Power BI (1.5) – Learn how to view and manipulate data in Power BI Service\, the online version of the popular Microsoft data visualization tool. Gini von Courter explores the features used most by Power BI “consumers”—the end users of Power BI content such as dashboards and reports. Learn how to sign up for Power BI and navigate a typical app. Find out how to subscribe to dashboards—collections of visualizations taken from reports and workbooks—and view individual tiles\, add comments\, set alerts\, and share dashboards and tiles with team members. Explore reports\, which display data in more detail. Go over how to sort and filter\, export\, and share reports\, either directly through Power BI or as a PowerPoint or PDF export. Finally\, learn how to view your dashboards and reports on the go using the Power BI mobile app. \n \n 
URL:https://techfluentacademy.org/event/2026-cohort-getting-started-with-power-bi/
CATEGORIES:2026 Cohort,Power BI Certification Track
END:VEVENT
BEGIN:VEVENT
DTSTART;TZID=America/Chicago:20260506T090000
DTEND;TZID=America/Chicago:20260506T160000
DTSTAMP:20260421T222622
CREATED:20251029T150912Z
LAST-MODIFIED:20251223T184610Z
UID:6568-1778058000-1778083200@techfluentacademy.org
SUMMARY:2026 Cohort: Overview of Power BI
DESCRIPTION:Overview of Power BI \n \nThe purpose of this training day is to give participants a good grounding in all the components of the Power BI ecosystem. Provide a list of questions and answers so participants can self-quiz. This will be a hands-on introduction so they must have their hardware to participate. We will create a very simple report with minimal data and minimal visuals and publish. Learners will have a robust understanding of the full ecosystem of Power BI\, thereby eliminating an employer’s need to provide orientation to the tool set.
URL:https://techfluentacademy.org/event/2026-cohort-overview-of-power-bi/
CATEGORIES:2026 Cohort,Live Virtual,Power BI Certification Track
ORGANIZER;CN="TechFluent Academy":MAILTO:carol@techfluentacademy.org
END:VEVENT
BEGIN:VEVENT
DTSTART;TZID=America/Chicago:20260508T090000
DTEND;TZID=America/Chicago:20260508T160000
DTSTAMP:20260421T222622
CREATED:20251029T151606Z
LAST-MODIFIED:20251223T184645Z
UID:6573-1778230800-1778256000@techfluentacademy.org
SUMMARY:2026 Cohort: The Power of Query Editor: Beyond the Standard
DESCRIPTION:The Power of Query Editor: Beyond the Standard \nThe purpose of this training day is to give students an understanding of the Power Query Editor\, beyond the standard transformations (removing columns etc.) A special emphasis will be placed on: \n\nThe M-language\nFuture proofing a query\nRe-using steps in other queries.\nComplex transformations\n\nThis training day should enable participants to decide whether the PQE (and M) is an area they want to specialize in. It also should give students strong interview preparation. It will include exercises to be performed in their own time. Because the Power Query Editor is a tool that many knowledge workers are not familiar with\, learners will bring knowledge of the tool that they can share with co-workers. Because the Power Query Editor is useful with Excel and Power BI\, it is a tool that can add value to the workplace in multiple ways.
URL:https://techfluentacademy.org/event/2026-cohort-the-power-of-query-editor-beyond-the-standard/
CATEGORIES:2026 Cohort,Live Virtual,Power BI Certification Track
ORGANIZER;CN="TechFluent Academy":MAILTO:carol@techfluentacademy.org
END:VEVENT
BEGIN:VEVENT
DTSTART;TZID=America/Chicago:20260511T090000
DTEND;TZID=America/Chicago:20260511T160000
DTSTAMP:20260421T222622
CREATED:20251029T151752Z
LAST-MODIFIED:20251223T184726Z
UID:6575-1778490000-1778515200@techfluentacademy.org
SUMMARY:2026 Cohort: Data Modeling
DESCRIPTION:Data Modeling (2-Day Session) \nThe purpose of these training days is to give participants a strong understanding of data modeling. This is one of the central skills in Power BI\, and participants should be able to discuss and create strong data models. Students should be able to articulate the advantages and disadvantages of a particular data model’s structure. Learners will be able to build performant data models from the start of their employment. Data modeling is a skill set that is not easy to master; TechFluent learners will not need the beginner or intermediate training in data modeling principles and concepts. Additionally\, they will be able to share best practices and explain the reasons why a practice is ideal for other employees. \n\nThe Star Schema (and other less ideal data models)\nRelationships (one-to-one\, one-to-many\, many-to-many)\nActive and inactive relationships\nIdentify and diagnose problems in a data model (repeating values\, incorrect results\, ambiguous results)\nHow to identify facts and dimensions\nWhen to create a calculated column vs. creating it in the PQE\nHow to measure performance in a report
URL:https://techfluentacademy.org/event/2026-cohort-data-modeling/
CATEGORIES:2026 Cohort,Live Virtual,Power BI Certification Track
ORGANIZER;CN="TechFluent Academy":MAILTO:carol@techfluentacademy.org
END:VEVENT
BEGIN:VEVENT
DTSTART;TZID=America/Chicago:20260512T090000
DTEND;TZID=America/Chicago:20260512T160000
DTSTAMP:20260421T222622
CREATED:20251029T151944Z
LAST-MODIFIED:20251223T184746Z
UID:6577-1778576400-1778601600@techfluentacademy.org
SUMMARY:2026 Cohort: Data Modeling (Day 2)
DESCRIPTION:Data Modeling (2-Day Session) \nThe purpose of these training days is to give participants a strong understanding of data modeling. This is one of the central skills in Power BI\, and participants should be able to discuss and create strong data models. Students should be able to articulate the advantages and disadvantages of a particular data model’s structure. Learners will be able to build performant data models from the start of their employment. Data modeling is a skill set that is not easy to master; TechFluent learners will not need the beginner or intermediate training in data modeling principles and concepts. Additionally\, they will be able to share best practices and explain the reasons why a practice is ideal for other employees. \n\nThe Star Schema (and other less ideal data models)\nRelationships (one-to-one\, one-to-many\, many-to-many)\nActive and inactive relationships\nIdentify and diagnose problems in a data model (repeating values\, incorrect results\, ambiguous results)\nHow to identify facts and dimensions\nWhen to create a calculated column vs. creating it in the PQE\nHow to measure performance in a report
URL:https://techfluentacademy.org/event/2026-cohort-data-modeling-day-2/
CATEGORIES:2026 Cohort,Live Virtual,Power BI Certification Track
ORGANIZER;CN="TechFluent Academy":MAILTO:carol@techfluentacademy.org
END:VEVENT
BEGIN:VEVENT
DTSTART;TZID=America/Chicago:20260513T100000
DTEND;TZID=America/Chicago:20260513T111500
DTSTAMP:20260421T222622
CREATED:20260420T190223Z
LAST-MODIFIED:20260420T190223Z
UID:7140-1778666400-1778670900@techfluentacademy.org
SUMMARY:Group 1: Sales App Capstone Presentation
DESCRIPTION:
URL:https://techfluentacademy.org/event/group-1-sales-app-capstone-presentation/
CATEGORIES:2026 Cohort,CE-Power Platform Certification Track
END:VEVENT
BEGIN:VEVENT
DTSTART;TZID=America/Chicago:20260515T110000
DTEND;TZID=America/Chicago:20260515T121500
DTSTAMP:20260421T222622
CREATED:20260420T190128Z
LAST-MODIFIED:20260420T190246Z
UID:7138-1778842800-1778847300@techfluentacademy.org
SUMMARY:Group 2: Field Service Capstone Presentation
DESCRIPTION:
URL:https://techfluentacademy.org/event/group-2-field-service-capstone-presentation/
CATEGORIES:2026 Cohort,CE-Power Platform Certification Track
END:VEVENT
BEGIN:VEVENT
DTSTART;TZID=America/Chicago:20260518T090000
DTEND;TZID=America/Chicago:20260518T160000
DTSTAMP:20260421T222622
CREATED:20251029T152207Z
LAST-MODIFIED:20251223T184828Z
UID:6579-1779094800-1779120000@techfluentacademy.org
SUMMARY:2026 Cohort: DAX
DESCRIPTION:DAX (2-Day Session) \nThe purpose of these training days is to give participants a working knowledge of DAX to create calculated columns\, measures\, tables\, security roles. Participants will also understand and use filter and row context. Learners will be versed in the syntax and principles of the DAX language. They will have hands-on experience writing and de-bugging DAX expressions. They will be exposed to the mechanics of the VertiPaq engine. They will also be introduced to external tools that can help with DAX de-bugging and performance measurement such as DAX Studio and Tabular Editor. \nStudents will be able to use a variety of DAX functions fluently\, including\, but not limited to: \n\n\n\nSUMMARIZE\, SUMMARIZECOLUMNS\, ADDCOLUMNS\nFILTER\, VALUES\nCALCULATE\, CALCULATETABLE\nSUM\, AVERAGE\, COUNT and the iterative versions of these functions
URL:https://techfluentacademy.org/event/2026-cohort-dax/
CATEGORIES:2026 Cohort,Live Virtual,Power BI Certification Track
ORGANIZER;CN="TechFluent Academy":MAILTO:carol@techfluentacademy.org
END:VEVENT
BEGIN:VEVENT
DTSTART;TZID=America/Chicago:20260519T090000
DTEND;TZID=America/Chicago:20260519T160000
DTSTAMP:20260421T222622
CREATED:20251029T152305Z
LAST-MODIFIED:20251223T184855Z
UID:6580-1779181200-1779206400@techfluentacademy.org
SUMMARY:2026 Cohort: DAX (Day 2)
DESCRIPTION:DAX (2-Day Session) \nThe purpose of these training days is to give participants a working knowledge of DAX to create calculated columns\, measures\, tables\, security roles. Participants will also understand and use filter and row context. Learners will be versed in the syntax and principles of the DAX language. They will have hands-on experience writing and de-bugging DAX expressions. They will be exposed to the mechanics of the VertiPaq engine. They will also be introduced to external tools that can help with DAX de-bugging and performance measurement such as DAX Studio and Tabular Editor. \nStudents will be able to use a variety of DAX functions fluently\, including\, but not limited to: \n\n\n\nSUMMARIZE\, SUMMARIZECOLUMNS\, ADDCOLUMNS\nFILTER\, VALUES\nCALCULATE\, CALCULATETABLE\nSUM\, AVERAGE\, COUNT and the iterative versions of these functions
URL:https://techfluentacademy.org/event/2026-cohort-dax-day-2/
CATEGORIES:2026 Cohort,Live Virtual,Power BI Certification Track
ORGANIZER;CN="TechFluent Academy":MAILTO:carol@techfluentacademy.org
END:VEVENT
BEGIN:VEVENT
DTSTART;TZID=America/Chicago:20260522T090000
DTEND;TZID=America/Chicago:20260522T160000
DTSTAMP:20260421T222622
CREATED:20251029T153454Z
LAST-MODIFIED:20251223T184922Z
UID:6583-1779440400-1779465600@techfluentacademy.org
SUMMARY:2026 Cohort: Building a Report
DESCRIPTION:Building a Report \nThe purpose of this training day is to give participants a full knowledge of the features and functionality used when creating a report. Students will be asked to create a report (as homework) that includes all the functionality that we have covered in the class. Learners will understand the nuances of report performance. They will be familiar with the differences between slicers\, the filter panel\, and drill throughs. They will have hands-on experience building buttons and bookmarks and linking the two together. Additionally\, they will be familiarized with external tools that enable building Power BI themes. \n\n\n\nDrill through\nInteractions\nSlicers vs. Filter pane\nBookmarks\nButtons\nThemes
URL:https://techfluentacademy.org/event/2026-cohort-building-a-report/
CATEGORIES:2026 Cohort,Live Virtual,Power BI Certification Track
ORGANIZER;CN="TechFluent Academy":MAILTO:carol@techfluentacademy.org
END:VEVENT
BEGIN:VEVENT
DTSTART;TZID=America/Chicago:20260527T090000
DTEND;TZID=America/Chicago:20260527T160000
DTSTAMP:20260421T222622
CREATED:20251029T153753Z
LAST-MODIFIED:20251223T184949Z
UID:6585-1779872400-1779897600@techfluentacademy.org
SUMMARY:2026 Cohort: Working in the Power BI Service
DESCRIPTION:Working in the Power BI Service \nThe purpose of this training day is to give participants a strong understanding of the Power BI Service. Learners will be able to articulate what work is best done in the Service and what work is best done in the Power BI Desktop. They will be trained in best practices in sharing reports (e.g. controlling “security sprawl”) within the organization. They will understand the constraints imposed by licensing. They will be briefed on Power BI Premium\, when and why Premium is necessary. \nTopics will include\, but are not limited to: \n\n\n\nWorkspaces\nApps (using and creating)\nSetting a refresh schedule\nEditing reports and dashboards\nCreating a dashboard\nCreating a workspace and assigning roles
URL:https://techfluentacademy.org/event/2026-cohort-working-in-the-power-bi-service/
CATEGORIES:2026 Cohort,Live Virtual,Power BI Certification Track
ORGANIZER;CN="TechFluent Academy":MAILTO:carol@techfluentacademy.org
END:VEVENT
BEGIN:VEVENT
DTSTART;TZID=America/Chicago:20260529T090000
DTEND;TZID=America/Chicago:20260529T160000
DTSTAMP:20260421T222622
CREATED:20251029T154345Z
LAST-MODIFIED:20251223T185009Z
UID:6588-1780045200-1780070400@techfluentacademy.org
SUMMARY:2026 Cohort: Creating Efficiencies
DESCRIPTION:Creating Efficiencies \nThe purpose of this training day is to show students how to use datasets and dataflows to eliminate re-work. It will also include creating a composite model (online data model and local data model). Learners will be able to articulate the benefits and limitations of working with datasets and dataflows created by others. This knowledge can provide significant benefits to employers as TechFluent learners can articulate and implement more efficient ways of working with data. They will be able to help streamlined ways of creating Power BI reports. Learners will also be able to choose between using Import\, Direct Query\, and Live Connection for ingesting data and/or data models.
URL:https://techfluentacademy.org/event/2026-cohort-creating-efficiencies/
CATEGORIES:2026 Cohort,Live Virtual,Power BI Certification Track
ORGANIZER;CN="TechFluent Academy":MAILTO:carol@techfluentacademy.org
END:VEVENT
END:VCALENDAR