BEGIN:VCALENDAR
VERSION:2.0
PRODID:-//TechFluent Academy - ECPv6.15.11//NONSGML v1.0//EN
CALSCALE:GREGORIAN
METHOD:PUBLISH
X-ORIGINAL-URL:https://techfluentacademy.org
X-WR-CALDESC:Events for TechFluent Academy
REFRESH-INTERVAL;VALUE=DURATION:PT1H
X-Robots-Tag:noindex
X-PUBLISHED-TTL:PT1H
BEGIN:VTIMEZONE
TZID:America/Chicago
BEGIN:DAYLIGHT
TZOFFSETFROM:-0600
TZOFFSETTO:-0500
TZNAME:CDT
DTSTART:20240310T080000
END:DAYLIGHT
BEGIN:STANDARD
TZOFFSETFROM:-0500
TZOFFSETTO:-0600
TZNAME:CST
DTSTART:20241103T070000
END:STANDARD
BEGIN:DAYLIGHT
TZOFFSETFROM:-0600
TZOFFSETTO:-0500
TZNAME:CDT
DTSTART:20250309T080000
END:DAYLIGHT
BEGIN:STANDARD
TZOFFSETFROM:-0500
TZOFFSETTO:-0600
TZNAME:CST
DTSTART:20251102T070000
END:STANDARD
BEGIN:DAYLIGHT
TZOFFSETFROM:-0600
TZOFFSETTO:-0500
TZNAME:CDT
DTSTART:20260308T080000
END:DAYLIGHT
BEGIN:STANDARD
TZOFFSETFROM:-0500
TZOFFSETTO:-0600
TZNAME:CST
DTSTART:20261101T070000
END:STANDARD
END:VTIMEZONE
BEGIN:VEVENT
DTSTART;TZID=America/Chicago:20251203T090000
DTEND;TZID=America/Chicago:20251203T120000
DTSTAMP:20260422T050701
CREATED:20251013T202325Z
LAST-MODIFIED:20251223T181108Z
UID:6350-1764752400-1764763200@techfluentacademy.org
SUMMARY:2026 Cohort: Day in a Life Panel\, Moderated by Carol Smock
DESCRIPTION:Day in the Life Panel \nModerated by Carol Smock \nExecutive Director\, TechFluent Academy \nIn this session\, you will meet several professionals with varying types of careers in the Microsoft Industry. They will share how they achieved their careers\, what they “do in a typical day” and field questions from you\, the Learners\, until you are comfortable that you understand the journey you are embarking upon. We are still engaging industry professionals\, so revisit this page frequently for updates. \nIn this class you will get to know… \nFrederick Anaafi\, Microsoft MVP\, MCT and Community Leader for Power BI at SureSkills \nDouglas Walker\, Sr. Consultant at Root16 Reply \nDeb Burgesser\, Lead Consultant at enCloud9 \nCristal Carter\, Associate Developer at Vital Farms \nDan Drislane\, Business & Process Analyst at Frontier Strategies  \n     \n 
URL:https://techfluentacademy.org/event/2026-cohort-day-in-a-life-panel-moderated-by-carol-smock/
CATEGORIES:2026 Cohort,Consulting Fundamentals
ORGANIZER;CN="TechFluent Academy":MAILTO:carol@techfluentacademy.org
END:VEVENT
END:VCALENDAR