BEGIN:VCALENDAR
VERSION:2.0
PRODID:-//TechFluent Academy - ECPv6.15.11//NONSGML v1.0//EN
CALSCALE:GREGORIAN
METHOD:PUBLISH
X-ORIGINAL-URL:https://techfluentacademy.org
X-WR-CALDESC:Events for TechFluent Academy
REFRESH-INTERVAL;VALUE=DURATION:PT1H
X-Robots-Tag:noindex
X-PUBLISHED-TTL:PT1H
BEGIN:VTIMEZONE
TZID:America/Chicago
BEGIN:DAYLIGHT
TZOFFSETFROM:-0600
TZOFFSETTO:-0500
TZNAME:CDT
DTSTART:20240310T080000
END:DAYLIGHT
BEGIN:STANDARD
TZOFFSETFROM:-0500
TZOFFSETTO:-0600
TZNAME:CST
DTSTART:20241103T070000
END:STANDARD
BEGIN:DAYLIGHT
TZOFFSETFROM:-0600
TZOFFSETTO:-0500
TZNAME:CDT
DTSTART:20250309T080000
END:DAYLIGHT
BEGIN:STANDARD
TZOFFSETFROM:-0500
TZOFFSETTO:-0600
TZNAME:CST
DTSTART:20251102T070000
END:STANDARD
BEGIN:DAYLIGHT
TZOFFSETFROM:-0600
TZOFFSETTO:-0500
TZNAME:CDT
DTSTART:20260308T080000
END:DAYLIGHT
BEGIN:STANDARD
TZOFFSETFROM:-0500
TZOFFSETTO:-0600
TZNAME:CST
DTSTART:20261101T070000
END:STANDARD
END:VTIMEZONE
BEGIN:VEVENT
DTSTART;TZID=America/Chicago:20251212T113000
DTEND;TZID=America/Chicago:20251212T130000
DTSTAMP:20260422T050605
CREATED:20251013T203809Z
LAST-MODIFIED:20251130T224448Z
UID:6276-1765539000-1765544400@techfluentacademy.org
SUMMARY:2026 Cohort: Self-Study - Intro to the Dataverse
DESCRIPTION:Self-Study: Intro to the Dataverse (1.5 hours total) \nThe Microsoft Dataverse is a customizable universe of table and column definitions developed by Microsoft as part of an open data initiative with Adobe and SAP\, aimed at creating a collection of standard business entities. Formerly called the Common Data Service\, the Dataverse provides consistency when developing applications\, storing data within an organization\, managing data transfers between organizations\, and makes it easier to develop business applications. In this course\, Gini von Courter shows how to use the Dataverse to create data-rich applications for Dynamics\, SharePoint\, and Office 365. She covers topics like how to set up Dataverse\, create data flows between applications\, and create basic apps using Power Apps. As Gini shows\, using a Dataverse database means you don’t need to spend as much time designing a data structure\, and instead can focus on building applications and workflows.
URL:https://techfluentacademy.org/event/2026-cohort-self-study-intro-to-the-dataverse/
CATEGORIES:2026 Cohort,Consulting Fundamentals,Microsoft Fundamentals
ORGANIZER;CN="TechFluent Academy":MAILTO:carol@techfluentacademy.org
END:VEVENT
BEGIN:VEVENT
DTSTART;TZID=America/Chicago:20251212T130000
DTEND;TZID=America/Chicago:20251212T150000
DTSTAMP:20260422T050605
CREATED:20251013T203841Z
LAST-MODIFIED:20251130T224631Z
UID:6280-1765544400-1765551600@techfluentacademy.org
SUMMARY:2026 Cohort: Self-Study - Intro to SharePoint
DESCRIPTION:Self-Study: Intro to SharePoint (2 hours total) \n\n\n\nIn this course\, Gini von Courter demonstrates the essential skills you need to work with SharePoint Online. Gini covers essential features such as log in\, navigation\, use of team and communication sites\, editing and coauthoring documents\, working with lists\, integration with Microsoft 365\, and document storage. She begins with basics like logging in and using the start page\, then jumps into navigation\, permissions\, editing your profile\, searching in SharePoint Online\, posting news\, and much more. Gini guides you through using the document library in SharePoint Online\, as well as opening\, editing\, and saving a document. She shows you how to manage documents\, view versions\, share files\, and more. Gini goes over how to use list apps in SharePoint\, then finishes up with useful advice on integrating SharePoint Online with Teams and the SharePoint mobile app.
URL:https://techfluentacademy.org/event/2026-cohort-self-study-intro-to-sharepoint/
CATEGORIES:2026 Cohort,Microsoft Fundamentals
ORGANIZER;CN="TechFluent Academy":MAILTO:carol@techfluentacademy.org
END:VEVENT
END:VCALENDAR