BEGIN:VCALENDAR
VERSION:2.0
PRODID:-//TechFluent Academy - ECPv6.15.11//NONSGML v1.0//EN
CALSCALE:GREGORIAN
METHOD:PUBLISH
X-WR-CALNAME:TechFluent Academy
X-ORIGINAL-URL:https://techfluentacademy.org
X-WR-CALDESC:Events for TechFluent Academy
REFRESH-INTERVAL;VALUE=DURATION:PT1H
X-Robots-Tag:noindex
X-PUBLISHED-TTL:PT1H
BEGIN:VTIMEZONE
TZID:America/Chicago
BEGIN:DAYLIGHT
TZOFFSETFROM:-0600
TZOFFSETTO:-0500
TZNAME:CDT
DTSTART:20240310T080000
END:DAYLIGHT
BEGIN:STANDARD
TZOFFSETFROM:-0500
TZOFFSETTO:-0600
TZNAME:CST
DTSTART:20241103T070000
END:STANDARD
BEGIN:DAYLIGHT
TZOFFSETFROM:-0600
TZOFFSETTO:-0500
TZNAME:CDT
DTSTART:20250309T080000
END:DAYLIGHT
BEGIN:STANDARD
TZOFFSETFROM:-0500
TZOFFSETTO:-0600
TZNAME:CST
DTSTART:20251102T070000
END:STANDARD
BEGIN:DAYLIGHT
TZOFFSETFROM:-0600
TZOFFSETTO:-0500
TZNAME:CDT
DTSTART:20260308T080000
END:DAYLIGHT
BEGIN:STANDARD
TZOFFSETFROM:-0500
TZOFFSETTO:-0600
TZNAME:CST
DTSTART:20261101T070000
END:STANDARD
END:VTIMEZONE
BEGIN:VEVENT
DTSTART;TZID=America/Chicago:20251215T090000
DTEND;TZID=America/Chicago:20251215T150000
DTSTAMP:20260422T050427
CREATED:20251013T204121Z
LAST-MODIFIED:20251113T165359Z
UID:6286-1765789200-1765810800@techfluentacademy.org
SUMMARY:2026 Cohort: Self-Study - Master Microsoft Outlook
DESCRIPTION:Self-Study: Master Microsoft Outlook (6 hours total) \nMicrosoft Outlook is the go-to mail and calendaring app for companies large and small. Become an Outlook power user and keep yourself and your team organized and more marketable to employers.
URL:https://techfluentacademy.org/event/2026-cohort-self-study-master-microsoft-outlook/
CATEGORIES:2026 Cohort,Microsoft Fundamentals
ORGANIZER;CN="TechFluent Academy":MAILTO:carol@techfluentacademy.org
END:VEVENT
BEGIN:VEVENT
DTSTART;TZID=America/Chicago:20251215T143000
DTEND;TZID=America/Chicago:20251215T163000
DTSTAMP:20260422T050427
CREATED:20251013T211235Z
LAST-MODIFIED:20251215T004146Z
UID:6290-1765809000-1765816200@techfluentacademy.org
SUMMARY:2026 Cohort: Self-Study - Microsoft Forms Essentials
DESCRIPTION:Self-Study: Microsoft Forms Essentials (2 hours total) \nLearn how to create surveys and quizzes quickly and easily with Microsoft Forms\, which comes bundled in the Office 365 suite. Curt Frye begins by showing how to create a basic survey\, including how to add different question types—multiple choice\, open-ended text\, rating\, and more—add ranking options\, and allow for file uploads. Next\, Curt steps through creating quizzes\, including adding quiz questions\, assigning point values to questions\, and adjusting quiz options. Once you’ve learned to create a basic survey or quiz\, you can learn how to edit forms\, share them with other users\, adjust themes\, and preview how your form will look on different platforms. Finally\, Curt shows how to view and analyze your results.
URL:https://techfluentacademy.org/event/2026-cohort-self-study-microsoft-forms-essentials/
CATEGORIES:2026 Cohort,Microsoft Fundamentals
ORGANIZER;CN="TechFluent Academy":MAILTO:carol@techfluentacademy.org
END:VEVENT
END:VCALENDAR