BEGIN:VCALENDAR
VERSION:2.0
PRODID:-//TechFluent Academy - ECPv6.15.11//NONSGML v1.0//EN
CALSCALE:GREGORIAN
METHOD:PUBLISH
X-ORIGINAL-URL:https://techfluentacademy.org
X-WR-CALDESC:Events for TechFluent Academy
REFRESH-INTERVAL;VALUE=DURATION:PT1H
X-Robots-Tag:noindex
X-PUBLISHED-TTL:PT1H
BEGIN:VTIMEZONE
TZID:America/Chicago
BEGIN:DAYLIGHT
TZOFFSETFROM:-0600
TZOFFSETTO:-0500
TZNAME:CDT
DTSTART:20240310T080000
END:DAYLIGHT
BEGIN:STANDARD
TZOFFSETFROM:-0500
TZOFFSETTO:-0600
TZNAME:CST
DTSTART:20241103T070000
END:STANDARD
BEGIN:DAYLIGHT
TZOFFSETFROM:-0600
TZOFFSETTO:-0500
TZNAME:CDT
DTSTART:20250309T080000
END:DAYLIGHT
BEGIN:STANDARD
TZOFFSETFROM:-0500
TZOFFSETTO:-0600
TZNAME:CST
DTSTART:20251102T070000
END:STANDARD
BEGIN:DAYLIGHT
TZOFFSETFROM:-0600
TZOFFSETTO:-0500
TZNAME:CDT
DTSTART:20260308T080000
END:DAYLIGHT
BEGIN:STANDARD
TZOFFSETFROM:-0500
TZOFFSETTO:-0600
TZNAME:CST
DTSTART:20261101T070000
END:STANDARD
END:VTIMEZONE
BEGIN:VEVENT
DTSTART;TZID=America/Chicago:20251216T090000
DTEND;TZID=America/Chicago:20251216T120000
DTSTAMP:20260422T050607
CREATED:20251013T202558Z
LAST-MODIFIED:20251223T181336Z
UID:6359-1765875600-1765886400@techfluentacademy.org
SUMMARY:2026 Cohort: Intro to M365\, with Heather Severino
DESCRIPTION:Introduction to M365\, Day 1 (Half-Day) \nwith Heather Severino \nOwner of TeachUTech \nIn this session\, you will be introduced to the Microsoft 365 Apps and the Microsoft Cloud. You will walk away with a basic understanding of which apps will be most important in a consulting and IT role. And we will provide guidance on best practices\, as well as tips and tricks for using the core apps. \nThere will be self-paced Learning Modules to support this Live Learning to follow. \n 
URL:https://techfluentacademy.org/event/2026-cohort-intro-to-m365/
CATEGORIES:2026 Cohort,Tech Fundamentals Class
ORGANIZER;CN="TechFluent Academy":MAILTO:carol@techfluentacademy.org
END:VEVENT
BEGIN:VEVENT
DTSTART;TZID=America/Chicago:20251216T130000
DTEND;TZID=America/Chicago:20251216T160000
DTSTAMP:20260422T050607
CREATED:20251027T145943Z
LAST-MODIFIED:20251130T222711Z
UID:6378-1765890000-1765900800@techfluentacademy.org
SUMMARY:2026 Cohort: Overcoming Imposter Syndrome\, with Mary Myers
DESCRIPTION:with Mary Myers\, MVP \nOwner of WorldMax \nImposter Syndrome can feel isolating\, but it’s far more common than we realize. In this session\, participants will explore the roots of Imposter Syndrome\, understand how it affects confidence and decision-making\, and discover practical strategies to reframe it as a source of strength. Through open discussion and reflection\, we will learn how to turn self-doubt into self-empowerment. \nLearning Objectives: \n\nRecognize the signs of Imposter Syndrome and how it impacts confidence\, productivity\, and career growth.\nIdentify external factors\, such as workplace dynamics\, immigration\, and representation\, that can contribute to feelings of self-doubt.\nApply strategies to reframe Imposter Syndrome as a tool for resilience\, growth\, and authentic leadership.\nDevelop personalized techniques to become their own strongest supporter and advocate.
URL:https://techfluentacademy.org/event/missing-identifier-instructor-overcoming-imposter-syndrome/
CATEGORIES:2026 Cohort,Consulting Fundamentals
ORGANIZER;CN="TechFluent Academy":MAILTO:carol@techfluentacademy.org
END:VEVENT
END:VCALENDAR