BEGIN:VCALENDAR
VERSION:2.0
PRODID:-//TechFluent Academy - ECPv6.15.11//NONSGML v1.0//EN
CALSCALE:GREGORIAN
METHOD:PUBLISH
X-WR-CALNAME:TechFluent Academy
X-ORIGINAL-URL:https://techfluentacademy.org
X-WR-CALDESC:Events for TechFluent Academy
REFRESH-INTERVAL;VALUE=DURATION:PT1H
X-Robots-Tag:noindex
X-PUBLISHED-TTL:PT1H
BEGIN:VTIMEZONE
TZID:America/Chicago
BEGIN:DAYLIGHT
TZOFFSETFROM:-0600
TZOFFSETTO:-0500
TZNAME:CDT
DTSTART:20240310T080000
END:DAYLIGHT
BEGIN:STANDARD
TZOFFSETFROM:-0500
TZOFFSETTO:-0600
TZNAME:CST
DTSTART:20241103T070000
END:STANDARD
BEGIN:DAYLIGHT
TZOFFSETFROM:-0600
TZOFFSETTO:-0500
TZNAME:CDT
DTSTART:20250309T080000
END:DAYLIGHT
BEGIN:STANDARD
TZOFFSETFROM:-0500
TZOFFSETTO:-0600
TZNAME:CST
DTSTART:20251102T070000
END:STANDARD
BEGIN:DAYLIGHT
TZOFFSETFROM:-0600
TZOFFSETTO:-0500
TZNAME:CDT
DTSTART:20260308T080000
END:DAYLIGHT
BEGIN:STANDARD
TZOFFSETFROM:-0500
TZOFFSETTO:-0600
TZNAME:CST
DTSTART:20261101T070000
END:STANDARD
END:VTIMEZONE
BEGIN:VEVENT
DTSTART;TZID=America/Chicago:20251217T140000
DTEND;TZID=America/Chicago:20251217T170000
DTSTAMP:20260422T050358
CREATED:20251013T211256Z
LAST-MODIFIED:20251130T230618Z
UID:6292-1765980000-1765990800@techfluentacademy.org
SUMMARY:2026 Cohort: Self-Study - Master Microsoft Teams\, Day 1
DESCRIPTION:Self-Study: Master Microsoft Teams (10 hours total) \nMicrosoft Teams is changing the way people communicate and collaborate at work. Learn to utilize the robust features included in Teams for text chats\, channel conversations\, file sharing\, meetings\, events\, and more. Master Teams chats\, channel conversations\, and calls. Schedule\, facilitate\, and optimize Teams meetings. Leverage Teams to manage projects of any size. \nRecommend completing 3 hours on Day 1.
URL:https://techfluentacademy.org/event/2026-cohort-self-study-master-microsoft-teams-day-1/
CATEGORIES:2026 Cohort,Microsoft Fundamentals
ORGANIZER;CN="TechFluent Academy":MAILTO:carol@techfluentacademy.org
END:VEVENT
END:VCALENDAR