BEGIN:VCALENDAR
VERSION:2.0
PRODID:-//TechFluent Academy - ECPv6.15.11//NONSGML v1.0//EN
CALSCALE:GREGORIAN
METHOD:PUBLISH
X-ORIGINAL-URL:https://techfluentacademy.org
X-WR-CALDESC:Events for TechFluent Academy
REFRESH-INTERVAL;VALUE=DURATION:PT1H
X-Robots-Tag:noindex
X-PUBLISHED-TTL:PT1H
BEGIN:VTIMEZONE
TZID:America/Chicago
BEGIN:DAYLIGHT
TZOFFSETFROM:-0600
TZOFFSETTO:-0500
TZNAME:CDT
DTSTART:20240310T080000
END:DAYLIGHT
BEGIN:STANDARD
TZOFFSETFROM:-0500
TZOFFSETTO:-0600
TZNAME:CST
DTSTART:20241103T070000
END:STANDARD
BEGIN:DAYLIGHT
TZOFFSETFROM:-0600
TZOFFSETTO:-0500
TZNAME:CDT
DTSTART:20250309T080000
END:DAYLIGHT
BEGIN:STANDARD
TZOFFSETFROM:-0500
TZOFFSETTO:-0600
TZNAME:CST
DTSTART:20251102T070000
END:STANDARD
BEGIN:DAYLIGHT
TZOFFSETFROM:-0600
TZOFFSETTO:-0500
TZNAME:CDT
DTSTART:20260308T080000
END:DAYLIGHT
BEGIN:STANDARD
TZOFFSETFROM:-0500
TZOFFSETTO:-0600
TZNAME:CST
DTSTART:20261101T070000
END:STANDARD
END:VTIMEZONE
BEGIN:VEVENT
DTSTART;TZID=America/Chicago:20251218T090000
DTEND;TZID=America/Chicago:20251218T120000
DTSTAMP:20260422T050606
CREATED:20251203T232544Z
LAST-MODIFIED:20251203T232608Z
UID:6778-1766048400-1766059200@techfluentacademy.org
SUMMARY:2026 Cohort: Intro to M365 - Day 2\, with Heather Severino
DESCRIPTION:Introduction to M365\, Day 2 (Half-Day) \nwith Heather Severino \nOwner of TeachUTech \nIn this session\, you will be introduced to the Microsoft 365 Apps and the Microsoft Cloud. You will walk away with a basic understanding of which apps will be most important in a consulting and IT role. And we will provide guidance on best practices\, as well as tips and tricks for using the core apps. \nThere will be self-paced Learning Modules to support this Live Learning to follow. \n 
URL:https://techfluentacademy.org/event/2026-cohort-intro-to-m365-day2-with-heather-severino/
LOCATION:Sabathani Community Center\, 310 E. 38th Street\, Minneapolis\, MN\, 55409\, United States
CATEGORIES:2026 Cohort,Tech Fundamentals Class
ORGANIZER;CN="TechFluent Academy":MAILTO:carol@techfluentacademy.org
END:VEVENT
BEGIN:VEVENT
DTSTART;TZID=America/Chicago:20251218T130000
DTEND;TZID=America/Chicago:20251218T150000
DTSTAMP:20260422T050606
CREATED:20251013T202633Z
LAST-MODIFIED:20251215T200146Z
UID:6366-1766062800-1766070000@techfluentacademy.org
SUMMARY:2026 Cohort: Student Tenant\, and Teams Setup with Carol Smock & Joshua Shold
DESCRIPTION:   \nLaptop SetUp\, Student Learner Tenant\, and Student Teams \nwith Carol Smock & Josh Shold \nExecutive Director & Program Director at TechFluent Academy \nSetup your Personal Laptop\, receive credentials for your Student Learner Tenant\, and and Introduction to using the Student Teams platform. \n 
URL:https://techfluentacademy.org/event/2026-cohort-laptop-distribution/
CATEGORIES:2026 Cohort,Tech Fundamentals Class
ORGANIZER;CN="TechFluent Academy":MAILTO:carol@techfluentacademy.org
END:VEVENT
BEGIN:VEVENT
DTSTART;TZID=America/Chicago:20251218T130000
DTEND;TZID=America/Chicago:20251218T180000
DTSTAMP:20260422T050606
CREATED:20251013T211430Z
LAST-MODIFIED:20251215T004858Z
UID:6297-1766062800-1766080800@techfluentacademy.org
SUMMARY:2026 Cohort: Self-Study - Master Microsoft Excel\, Day 1
DESCRIPTION:Self-Study: Master Microsoft Excel (13 hours total) \nEmployers around the world cite Microsoft Excel as one of the most sought-after skills for any new hire. This learning path helps you become an Excel power user—covering everything from functions and formatting to PivotTables and dashboards.\nMaster the powerful features and functions in Excel. Learn how to use Excel’s robust built-in formulas. Get up to speed on PivotTables\, dashboards\, and Power Query. \nRecommended completing 5 hours on Day 1.
URL:https://techfluentacademy.org/event/2026-cohort-self-study-master-microsoft-excel-day-1/
CATEGORIES:2026 Cohort,Microsoft Fundamentals
ORGANIZER;CN="TechFluent Academy":MAILTO:carol@techfluentacademy.org
END:VEVENT
END:VCALENDAR