BEGIN:VCALENDAR
VERSION:2.0
PRODID:-//TechFluent Academy - ECPv6.15.11//NONSGML v1.0//EN
CALSCALE:GREGORIAN
METHOD:PUBLISH
X-WR-CALNAME:TechFluent Academy
X-ORIGINAL-URL:https://techfluentacademy.org
X-WR-CALDESC:Events for TechFluent Academy
REFRESH-INTERVAL;VALUE=DURATION:PT1H
X-Robots-Tag:noindex
X-PUBLISHED-TTL:PT1H
BEGIN:VTIMEZONE
TZID:America/Chicago
BEGIN:DAYLIGHT
TZOFFSETFROM:-0600
TZOFFSETTO:-0500
TZNAME:CDT
DTSTART:20240310T080000
END:DAYLIGHT
BEGIN:STANDARD
TZOFFSETFROM:-0500
TZOFFSETTO:-0600
TZNAME:CST
DTSTART:20241103T070000
END:STANDARD
BEGIN:DAYLIGHT
TZOFFSETFROM:-0600
TZOFFSETTO:-0500
TZNAME:CDT
DTSTART:20250309T080000
END:DAYLIGHT
BEGIN:STANDARD
TZOFFSETFROM:-0500
TZOFFSETTO:-0600
TZNAME:CST
DTSTART:20251102T070000
END:STANDARD
BEGIN:DAYLIGHT
TZOFFSETFROM:-0600
TZOFFSETTO:-0500
TZNAME:CDT
DTSTART:20260308T080000
END:DAYLIGHT
BEGIN:STANDARD
TZOFFSETFROM:-0500
TZOFFSETTO:-0600
TZNAME:CST
DTSTART:20261101T070000
END:STANDARD
END:VTIMEZONE
BEGIN:VEVENT
DTSTART;TZID=America/Chicago:20251223T080000
DTEND;TZID=America/Chicago:20251223T130000
DTSTAMP:20260422T050429
CREATED:20251013T214903Z
LAST-MODIFIED:20251130T231357Z
UID:6312-1766476800-1766494800@techfluentacademy.org
SUMMARY:2026 Cohort: Self-Study - Master Microsoft Excel\, Day 3
DESCRIPTION:Master Microsoft Excel (13 hours total) \nEmployers around the world cite Microsoft Excel as one of the most sought-after skills for any new hire. This learning path helps you become an Excel power user—covering everything from functions and formatting to PivotTables and dashboards. Master the powerful features and functions in Excel. Learn how to use Excel’s robust built-in formulas. Get up to speed on PivotTables\, dashboards\, and Power Query. \nRecommend completing 5 hours on Day 3.
URL:https://techfluentacademy.org/event/2026-cohort-self-study-master-microsoft-excel-day-3/
CATEGORIES:2026 Cohort,Microsoft Fundamentals
ORGANIZER;CN="TechFluent Academy":MAILTO:carol@techfluentacademy.org
END:VEVENT
BEGIN:VEVENT
DTSTART;TZID=America/Chicago:20251223T130000
DTEND;TZID=America/Chicago:20251223T170000
DTSTAMP:20260422T050429
CREATED:20251013T214924Z
LAST-MODIFIED:20251130T231445Z
UID:6314-1766494800-1766509200@techfluentacademy.org
SUMMARY:2026 Cohort: Self-Study - Master Microsoft Word\, Day 2
DESCRIPTION:Master Microsoft Word (8 hours total) \nProficiency in Microsoft Word is one of the most in-demand software skills today. This learning path helps you become a power user in Word. Discover how to create forms\, format documents\, use built-in templates\, and more. Use Word’s powerful features and functions with ease.\nCreate and edit forms. Utilize Word’s built-in styles and templates. \nRecommend completing 4 hours on Day 2.
URL:https://techfluentacademy.org/event/2026-cohort-self-study-master-microsoft-word-day-2/
CATEGORIES:2026 Cohort,Microsoft Fundamentals
ORGANIZER;CN="TechFluent Academy":MAILTO:carol@techfluentacademy.org
END:VEVENT
END:VCALENDAR