BEGIN:VCALENDAR
VERSION:2.0
PRODID:-//TechFluent Academy - ECPv6.15.11//NONSGML v1.0//EN
CALSCALE:GREGORIAN
METHOD:PUBLISH
X-WR-CALNAME:TechFluent Academy
X-ORIGINAL-URL:https://techfluentacademy.org
X-WR-CALDESC:Events for TechFluent Academy
REFRESH-INTERVAL;VALUE=DURATION:PT1H
X-Robots-Tag:noindex
X-PUBLISHED-TTL:PT1H
BEGIN:VTIMEZONE
TZID:America/Chicago
BEGIN:DAYLIGHT
TZOFFSETFROM:-0600
TZOFFSETTO:-0500
TZNAME:CDT
DTSTART:20250309T080000
END:DAYLIGHT
BEGIN:STANDARD
TZOFFSETFROM:-0500
TZOFFSETTO:-0600
TZNAME:CST
DTSTART:20251102T070000
END:STANDARD
BEGIN:DAYLIGHT
TZOFFSETFROM:-0600
TZOFFSETTO:-0500
TZNAME:CDT
DTSTART:20260308T080000
END:DAYLIGHT
BEGIN:STANDARD
TZOFFSETFROM:-0500
TZOFFSETTO:-0600
TZNAME:CST
DTSTART:20261101T070000
END:STANDARD
BEGIN:DAYLIGHT
TZOFFSETFROM:-0600
TZOFFSETTO:-0500
TZNAME:CDT
DTSTART:20270314T080000
END:DAYLIGHT
BEGIN:STANDARD
TZOFFSETFROM:-0500
TZOFFSETTO:-0600
TZNAME:CST
DTSTART:20271107T070000
END:STANDARD
END:VTIMEZONE
BEGIN:VEVENT
DTSTART;TZID=America/Chicago:20260119T090000
DTEND;TZID=America/Chicago:20260119T160000
DTSTAMP:20260422T033058
CREATED:20251027T152700Z
LAST-MODIFIED:20260105T140035Z
UID:6481-1768813200-1768838400@techfluentacademy.org
SUMMARY:2026 Cohort: Intro to Change Management with Staci Cotter
DESCRIPTION:Intro to Change Management \nwith Staci Cotter \nSenior Project Manager at WinfoSoft \nIn this session\, we will introduce the concept of Organizational Change Management and how it fits into the framework of successful Delivery Management. You will learn to properly define adoption and change management in the context of technology implementations. You will learn to describe the objectives of change management within a project or program. You will review change methodologies and discuss examples and how they apply to your project or program. And finally\, we will discuss why it is important to apply an empathetic lens to interactions with a variety of people involved in your project or program.
URL:https://techfluentacademy.org/event/2026-cohort-intro-to-change-management/
CATEGORIES:2026 Cohort,Consulting Fundamentals,Live Virtual
ORGANIZER;CN="TechFluent Academy":MAILTO:carol@techfluentacademy.org
END:VEVENT
END:VCALENDAR