BEGIN:VCALENDAR
VERSION:2.0
PRODID:-//TechFluent Academy - ECPv6.15.11//NONSGML v1.0//EN
CALSCALE:GREGORIAN
METHOD:PUBLISH
X-WR-CALNAME:TechFluent Academy
X-ORIGINAL-URL:https://techfluentacademy.org
X-WR-CALDESC:Events for TechFluent Academy
REFRESH-INTERVAL;VALUE=DURATION:PT1H
X-Robots-Tag:noindex
X-PUBLISHED-TTL:PT1H
BEGIN:VTIMEZONE
TZID:America/Chicago
BEGIN:DAYLIGHT
TZOFFSETFROM:-0600
TZOFFSETTO:-0500
TZNAME:CDT
DTSTART:20250309T080000
END:DAYLIGHT
BEGIN:STANDARD
TZOFFSETFROM:-0500
TZOFFSETTO:-0600
TZNAME:CST
DTSTART:20251102T070000
END:STANDARD
BEGIN:DAYLIGHT
TZOFFSETFROM:-0600
TZOFFSETTO:-0500
TZNAME:CDT
DTSTART:20260308T080000
END:DAYLIGHT
BEGIN:STANDARD
TZOFFSETFROM:-0500
TZOFFSETTO:-0600
TZNAME:CST
DTSTART:20261101T070000
END:STANDARD
BEGIN:DAYLIGHT
TZOFFSETFROM:-0600
TZOFFSETTO:-0500
TZNAME:CDT
DTSTART:20270314T080000
END:DAYLIGHT
BEGIN:STANDARD
TZOFFSETFROM:-0500
TZOFFSETTO:-0600
TZNAME:CST
DTSTART:20271107T070000
END:STANDARD
END:VTIMEZONE
BEGIN:VEVENT
DTSTART;TZID=America/Chicago:20260123T090000
DTEND;TZID=America/Chicago:20260123T133000
DTSTAMP:20260422T033058
CREATED:20251027T151655Z
LAST-MODIFIED:20251113T165304Z
UID:6334-1769158800-1769175000@techfluentacademy.org
SUMMARY:2026 Cohort: Self-Study - Financial Literacy - Part 3
DESCRIPTION:Self-Study: Financial Literacy – Part 3 \n  \nEconomics for Everyone: Understanding a Recession (40m) \nReal Estate Analytics (49m) \nReal Estate: Negotiating with Sellers (1h) \nAnalyzing a Real Estate Deal (35m) \nReal Estate Contracts (27m) \nReal Estate: Estimating Repair Costs (49m)
URL:https://techfluentacademy.org/event/2026-cohort-self-study-financial-literacy-part-3/
CATEGORIES:2026 Cohort,Financial Literacy
ORGANIZER;CN="TechFluent Academy":MAILTO:carol@techfluentacademy.org
END:VEVENT
END:VCALENDAR