BEGIN:VCALENDAR
VERSION:2.0
PRODID:-//TechFluent Academy - ECPv6.15.11//NONSGML v1.0//EN
CALSCALE:GREGORIAN
METHOD:PUBLISH
X-ORIGINAL-URL:https://techfluentacademy.org
X-WR-CALDESC:Events for TechFluent Academy
REFRESH-INTERVAL;VALUE=DURATION:PT1H
X-Robots-Tag:noindex
X-PUBLISHED-TTL:PT1H
BEGIN:VTIMEZONE
TZID:America/Chicago
BEGIN:DAYLIGHT
TZOFFSETFROM:-0600
TZOFFSETTO:-0500
TZNAME:CDT
DTSTART:20250309T080000
END:DAYLIGHT
BEGIN:STANDARD
TZOFFSETFROM:-0500
TZOFFSETTO:-0600
TZNAME:CST
DTSTART:20251102T070000
END:STANDARD
BEGIN:DAYLIGHT
TZOFFSETFROM:-0600
TZOFFSETTO:-0500
TZNAME:CDT
DTSTART:20260308T080000
END:DAYLIGHT
BEGIN:STANDARD
TZOFFSETFROM:-0500
TZOFFSETTO:-0600
TZNAME:CST
DTSTART:20261101T070000
END:STANDARD
BEGIN:DAYLIGHT
TZOFFSETFROM:-0600
TZOFFSETTO:-0500
TZNAME:CDT
DTSTART:20270314T080000
END:DAYLIGHT
BEGIN:STANDARD
TZOFFSETFROM:-0500
TZOFFSETTO:-0600
TZNAME:CST
DTSTART:20271107T070000
END:STANDARD
END:VTIMEZONE
BEGIN:VEVENT
DTSTART;TZID=America/Chicago:20260225T090000
DTEND;TZID=America/Chicago:20260225T160000
DTSTAMP:20260422T014640
CREATED:20251027T162553Z
LAST-MODIFIED:20260129T152327Z
UID:6509-1772010000-1772035200@techfluentacademy.org
SUMMARY:2026 Cohort: Data Management with Tad Thompson
DESCRIPTION:  \n \nData Management \nwith Tad Thompson \nCloud Solution Architect at Microsoft \nIn this session\, you will learn the key concepts and principles of data management within D365CE and the Power Platform. You will learn to import and export data within D365CE and the Power Platform (the Dataverse). You will learn to the configure Duplicate Detection and how that impacts the maintenance of data quality. You will learn to setup and review Auditing. Finally\, the Instructor will provide key resources that will be invaluable for your career. \nThis course was developed by Tad Thompson\, Cloud Solution Architect at Microsoft.
URL:https://techfluentacademy.org/event/2026-cohort-data-management/
CATEGORIES:2026 Cohort,CE-Power Platform Certification Track,Live Virtual
ORGANIZER;CN="TechFluent Academy":MAILTO:carol@techfluentacademy.org
END:VEVENT
END:VCALENDAR