BEGIN:VCALENDAR
VERSION:2.0
PRODID:-//TechFluent Academy - ECPv6.15.11//NONSGML v1.0//EN
CALSCALE:GREGORIAN
METHOD:PUBLISH
X-ORIGINAL-URL:https://techfluentacademy.org
X-WR-CALDESC:Events for TechFluent Academy
REFRESH-INTERVAL;VALUE=DURATION:PT1H
X-Robots-Tag:noindex
X-PUBLISHED-TTL:PT1H
BEGIN:VTIMEZONE
TZID:America/Chicago
BEGIN:DAYLIGHT
TZOFFSETFROM:-0600
TZOFFSETTO:-0500
TZNAME:CDT
DTSTART:20250309T080000
END:DAYLIGHT
BEGIN:STANDARD
TZOFFSETFROM:-0500
TZOFFSETTO:-0600
TZNAME:CST
DTSTART:20251102T070000
END:STANDARD
BEGIN:DAYLIGHT
TZOFFSETFROM:-0600
TZOFFSETTO:-0500
TZNAME:CDT
DTSTART:20260308T080000
END:DAYLIGHT
BEGIN:STANDARD
TZOFFSETFROM:-0500
TZOFFSETTO:-0600
TZNAME:CST
DTSTART:20261101T070000
END:STANDARD
BEGIN:DAYLIGHT
TZOFFSETFROM:-0600
TZOFFSETTO:-0500
TZNAME:CDT
DTSTART:20270314T080000
END:DAYLIGHT
BEGIN:STANDARD
TZOFFSETFROM:-0500
TZOFFSETTO:-0600
TZNAME:CST
DTSTART:20271107T070000
END:STANDARD
END:VTIMEZONE
BEGIN:VEVENT
DTSTART;TZID=America/Chicago:20260304T090000
DTEND;TZID=America/Chicago:20260304T160000
DTSTAMP:20260422T000455
CREATED:20251027T164206Z
LAST-MODIFIED:20251223T182724Z
UID:6515-1772614800-1772640000@techfluentacademy.org
SUMMARY:2026 Cohort: Model-Driven Apps\, with Pratima Surapaneni
DESCRIPTION:Model-Driven Apps \nwith Pratima Surapaneni  \nPower Platform Architect at Capgemini. \nIn this session\, you will learn why and when to leverage Model-Driven Apps with your D365CE System. We will discuss the Pros and Cons of Model-Driven Apps\, the Licensing impact on your Platform and the various Use Cases in which they are appropriate. You will learn the Components and Features available for configuration within the Model-Driven App and all basic and intermediate customization capabilities. Finally\, through a Hands-on Lab\, you will Build a Model-Driven App yourself. \nThis course was designed by Jesse Bucholz of Stoneridge Software and enhanced with current features by Shane Bradley of RSM US LLP.
URL:https://techfluentacademy.org/event/2026-cohort-model-driven-apps/
CATEGORIES:2026 Cohort,CE-Power Platform Certification Track,Live Virtual
ORGANIZER;CN="TechFluent Academy":MAILTO:carol@techfluentacademy.org
END:VEVENT
END:VCALENDAR