BEGIN:VCALENDAR
VERSION:2.0
PRODID:-//TechFluent Academy - ECPv6.15.11//NONSGML v1.0//EN
CALSCALE:GREGORIAN
METHOD:PUBLISH
X-ORIGINAL-URL:https://techfluentacademy.org
X-WR-CALDESC:Events for TechFluent Academy
REFRESH-INTERVAL;VALUE=DURATION:PT1H
X-Robots-Tag:noindex
X-PUBLISHED-TTL:PT1H
BEGIN:VTIMEZONE
TZID:America/Chicago
BEGIN:DAYLIGHT
TZOFFSETFROM:-0600
TZOFFSETTO:-0500
TZNAME:CDT
DTSTART:20250309T080000
END:DAYLIGHT
BEGIN:STANDARD
TZOFFSETFROM:-0500
TZOFFSETTO:-0600
TZNAME:CST
DTSTART:20251102T070000
END:STANDARD
BEGIN:DAYLIGHT
TZOFFSETFROM:-0600
TZOFFSETTO:-0500
TZNAME:CDT
DTSTART:20260308T080000
END:DAYLIGHT
BEGIN:STANDARD
TZOFFSETFROM:-0500
TZOFFSETTO:-0600
TZNAME:CST
DTSTART:20261101T070000
END:STANDARD
BEGIN:DAYLIGHT
TZOFFSETFROM:-0600
TZOFFSETTO:-0500
TZNAME:CDT
DTSTART:20270314T080000
END:DAYLIGHT
BEGIN:STANDARD
TZOFFSETFROM:-0500
TZOFFSETTO:-0600
TZNAME:CST
DTSTART:20271107T070000
END:STANDARD
END:VTIMEZONE
BEGIN:VEVENT
DTSTART;TZID=America/Chicago:20260325T090000
DTEND;TZID=America/Chicago:20260325T160000
DTSTAMP:20260422T000528
CREATED:20251027T173953Z
LAST-MODIFIED:20251223T183658Z
UID:6537-1774429200-1774454400@techfluentacademy.org
SUMMARY:2026 Cohort: Co-Pilot Studio - PVA with\, Sameer Pathak - Day 1
DESCRIPTION:Co-Pilot Studio\, Power Virtual Agents  \nwith Sameer Pathak  \nAssociate Technical Architect at Capgemini (2-Day Session) \nIn this session\, you’ll explore the fundamentals of Microsoft Copilot and Power Virtual Agents\, learning how they enhance user interactions and automate business processes. You’ll gain hands-on experience configuring and deploying chatbots\, integrating them into business applications to improve engagement. Discover how AI-driven automation can streamline workflows and boost efficiency\, while Copilot helps generate insights and support decision-making within tools like Microsoft Dynamics 365. You’ll also learn best practices for conversational AI\, ensuring clear and effective interactions. By connecting Power Virtual Agents with Microsoft Dataverse and Power Automate\, you’ll enable seamless data flow and automated actions. Customize chatbot functionalities for specific business needs and prepare for the Basic Business Application Certification with key concepts and exam strategies. \nThis course developed by Simon Wang\, of Microsoft.
URL:https://techfluentacademy.org/event/2026-cohort-co-pilot-studio-pva-day-1/
CATEGORIES:2026 Cohort,CE-Power Platform Certification Track,Live Virtual
ORGANIZER;CN="TechFluent Academy":MAILTO:carol@techfluentacademy.org
END:VEVENT
END:VCALENDAR