BEGIN:VCALENDAR
VERSION:2.0
PRODID:-//TechFluent Academy - ECPv6.15.11//NONSGML v1.0//EN
CALSCALE:GREGORIAN
METHOD:PUBLISH
X-ORIGINAL-URL:https://techfluentacademy.org
X-WR-CALDESC:Events for TechFluent Academy
REFRESH-INTERVAL;VALUE=DURATION:PT1H
X-Robots-Tag:noindex
X-PUBLISHED-TTL:PT1H
BEGIN:VTIMEZONE
TZID:America/Chicago
BEGIN:DAYLIGHT
TZOFFSETFROM:-0600
TZOFFSETTO:-0500
TZNAME:CDT
DTSTART:20250309T080000
END:DAYLIGHT
BEGIN:STANDARD
TZOFFSETFROM:-0500
TZOFFSETTO:-0600
TZNAME:CST
DTSTART:20251102T070000
END:STANDARD
BEGIN:DAYLIGHT
TZOFFSETFROM:-0600
TZOFFSETTO:-0500
TZNAME:CDT
DTSTART:20260308T080000
END:DAYLIGHT
BEGIN:STANDARD
TZOFFSETFROM:-0500
TZOFFSETTO:-0600
TZNAME:CST
DTSTART:20261101T070000
END:STANDARD
BEGIN:DAYLIGHT
TZOFFSETFROM:-0600
TZOFFSETTO:-0500
TZNAME:CDT
DTSTART:20270314T080000
END:DAYLIGHT
BEGIN:STANDARD
TZOFFSETFROM:-0500
TZOFFSETTO:-0600
TZNAME:CST
DTSTART:20271107T070000
END:STANDARD
END:VTIMEZONE
BEGIN:VEVENT
DTSTART;TZID=America/Chicago:20260401T090000
DTEND;TZID=America/Chicago:20260401T160000
DTSTAMP:20260421T223202
CREATED:20251027T183319Z
LAST-MODIFIED:20260406T140735Z
UID:6543-1775034000-1775059200@techfluentacademy.org
SUMMARY:2026 Cohort: Intro to Customer Service (rescheduled\, TBD)
DESCRIPTION:Introduction to Customer Service \nIn this session\, we will explain the Customer Service apps\, what for and how they are used in the Modern Workplace. By the end of this course\, you will be able to navigate the entire module and understand all of the Customer Service Apps. You will be introduced to the Common Terms and features of the Customer Service App. You will learn the commonly used tables and features in the Common Service area of the Customer Service Center. You will be given a tour of the Customer Service Admin Center. You will review the Customer Service Default Business Process Flow including Service Level Agreements and Entitlements\, Knowledge Base Articles\, Queues and Routing Rules. And\, finally\, you will be introduced to the Customer Service Workspace App. \nThis course was developed by Michael Hauck of congruentX.
URL:https://techfluentacademy.org/event/2026-cohort-intro-to-customer-service/
CATEGORIES:2026 Cohort,CE-Power Platform Certification Track,Live Virtual
ORGANIZER;CN="TechFluent Academy":MAILTO:carol@techfluentacademy.org
END:VEVENT
END:VCALENDAR