BEGIN:VCALENDAR
VERSION:2.0
PRODID:-//TechFluent Academy - ECPv6.15.11//NONSGML v1.0//EN
CALSCALE:GREGORIAN
METHOD:PUBLISH
X-WR-CALNAME:TechFluent Academy
X-ORIGINAL-URL:https://techfluentacademy.org
X-WR-CALDESC:Events for TechFluent Academy
REFRESH-INTERVAL;VALUE=DURATION:PT1H
X-Robots-Tag:noindex
X-PUBLISHED-TTL:PT1H
BEGIN:VTIMEZONE
TZID:America/Chicago
BEGIN:DAYLIGHT
TZOFFSETFROM:-0600
TZOFFSETTO:-0500
TZNAME:CDT
DTSTART:20250309T080000
END:DAYLIGHT
BEGIN:STANDARD
TZOFFSETFROM:-0500
TZOFFSETTO:-0600
TZNAME:CST
DTSTART:20251102T070000
END:STANDARD
BEGIN:DAYLIGHT
TZOFFSETFROM:-0600
TZOFFSETTO:-0500
TZNAME:CDT
DTSTART:20260308T080000
END:DAYLIGHT
BEGIN:STANDARD
TZOFFSETFROM:-0500
TZOFFSETTO:-0600
TZNAME:CST
DTSTART:20261101T070000
END:STANDARD
BEGIN:DAYLIGHT
TZOFFSETFROM:-0600
TZOFFSETTO:-0500
TZNAME:CDT
DTSTART:20270314T080000
END:DAYLIGHT
BEGIN:STANDARD
TZOFFSETFROM:-0500
TZOFFSETTO:-0600
TZNAME:CST
DTSTART:20271107T070000
END:STANDARD
END:VTIMEZONE
BEGIN:VEVENT
DTSTART;TZID=America/Chicago:20260529T090000
DTEND;TZID=America/Chicago:20260529T160000
DTSTAMP:20260422T000331
CREATED:20251029T154345Z
LAST-MODIFIED:20251223T185009Z
UID:6588-1780045200-1780070400@techfluentacademy.org
SUMMARY:2026 Cohort: Creating Efficiencies
DESCRIPTION:Creating Efficiencies \nThe purpose of this training day is to show students how to use datasets and dataflows to eliminate re-work. It will also include creating a composite model (online data model and local data model). Learners will be able to articulate the benefits and limitations of working with datasets and dataflows created by others. This knowledge can provide significant benefits to employers as TechFluent learners can articulate and implement more efficient ways of working with data. They will be able to help streamlined ways of creating Power BI reports. Learners will also be able to choose between using Import\, Direct Query\, and Live Connection for ingesting data and/or data models.
URL:https://techfluentacademy.org/event/2026-cohort-creating-efficiencies/
CATEGORIES:2026 Cohort,Live Virtual,Power BI Certification Track
ORGANIZER;CN="TechFluent Academy":MAILTO:carol@techfluentacademy.org
END:VEVENT
END:VCALENDAR