BEGIN:VCALENDAR
VERSION:2.0
PRODID:-//TechFluent Academy - ECPv6.15.11//NONSGML v1.0//EN
CALSCALE:GREGORIAN
METHOD:PUBLISH
X-WR-CALNAME:TechFluent Academy
X-ORIGINAL-URL:https://techfluentacademy.org
X-WR-CALDESC:Events for TechFluent Academy
REFRESH-INTERVAL;VALUE=DURATION:PT1H
X-Robots-Tag:noindex
X-PUBLISHED-TTL:PT1H
BEGIN:VTIMEZONE
TZID:America/Chicago
BEGIN:DAYLIGHT
TZOFFSETFROM:-0600
TZOFFSETTO:-0500
TZNAME:CDT
DTSTART:20250309T080000
END:DAYLIGHT
BEGIN:STANDARD
TZOFFSETFROM:-0500
TZOFFSETTO:-0600
TZNAME:CST
DTSTART:20251102T070000
END:STANDARD
BEGIN:DAYLIGHT
TZOFFSETFROM:-0600
TZOFFSETTO:-0500
TZNAME:CDT
DTSTART:20260308T080000
END:DAYLIGHT
BEGIN:STANDARD
TZOFFSETFROM:-0500
TZOFFSETTO:-0600
TZNAME:CST
DTSTART:20261101T070000
END:STANDARD
BEGIN:DAYLIGHT
TZOFFSETFROM:-0600
TZOFFSETTO:-0500
TZNAME:CDT
DTSTART:20270314T080000
END:DAYLIGHT
BEGIN:STANDARD
TZOFFSETFROM:-0500
TZOFFSETTO:-0600
TZNAME:CST
DTSTART:20271107T070000
END:STANDARD
END:VTIMEZONE
BEGIN:VEVENT
DTSTART;TZID=America/Chicago:20260629T090000
DTEND;TZID=America/Chicago:20260629T100000
DTSTAMP:20260422T014441
CREATED:20251029T201052Z
LAST-MODIFIED:20251223T185340Z
UID:6608-1782723600-1782727200@techfluentacademy.org
SUMMARY:2026 Cohort: Testing Accommodations\, Exam Preparation\, with Carol Smock
DESCRIPTION:Testing Accommodations\, Exam Preparation \nwith Carol Smock \nExecutive Director at TechFluent Academy \nIn this session\, our Executive Director will help you understand the Testing Accommodations available as you prepare to take your Certification Exams. She will also provide Study Guides and resources available to help you prepare for the Certification Exams. \n 
URL:https://techfluentacademy.org/event/2026-cohort-testing-accommodations-exam-preparation-with-carol-smock-copy/
CATEGORIES:2026 Cohort,Consulting Fundamentals,Live Virtual
ORGANIZER;CN="TechFluent Academy":MAILTO:carol@techfluentacademy.org
END:VEVENT
END:VCALENDAR