BEGIN:VCALENDAR
VERSION:2.0
PRODID:-//TechFluent Academy - ECPv6.15.11//NONSGML v1.0//EN
CALSCALE:GREGORIAN
METHOD:PUBLISH
X-ORIGINAL-URL:https://techfluentacademy.org
X-WR-CALDESC:Events for TechFluent Academy
REFRESH-INTERVAL;VALUE=DURATION:PT1H
X-Robots-Tag:noindex
X-PUBLISHED-TTL:PT1H
BEGIN:VTIMEZONE
TZID:America/Chicago
BEGIN:DAYLIGHT
TZOFFSETFROM:-0600
TZOFFSETTO:-0500
TZNAME:CDT
DTSTART:20250309T080000
END:DAYLIGHT
BEGIN:STANDARD
TZOFFSETFROM:-0500
TZOFFSETTO:-0600
TZNAME:CST
DTSTART:20251102T070000
END:STANDARD
BEGIN:DAYLIGHT
TZOFFSETFROM:-0600
TZOFFSETTO:-0500
TZNAME:CDT
DTSTART:20260308T080000
END:DAYLIGHT
BEGIN:STANDARD
TZOFFSETFROM:-0500
TZOFFSETTO:-0600
TZNAME:CST
DTSTART:20261101T070000
END:STANDARD
BEGIN:DAYLIGHT
TZOFFSETFROM:-0600
TZOFFSETTO:-0500
TZNAME:CDT
DTSTART:20270314T080000
END:DAYLIGHT
BEGIN:STANDARD
TZOFFSETFROM:-0500
TZOFFSETTO:-0600
TZNAME:CST
DTSTART:20271107T070000
END:STANDARD
END:VTIMEZONE
BEGIN:VEVENT
DTSTART;TZID=America/Chicago:20260706T090000
DTEND;TZID=America/Chicago:20260706T160000
DTSTAMP:20260422T033130
CREATED:20251030T153058Z
LAST-MODIFIED:20251223T185403Z
UID:6612-1783328400-1783353600@techfluentacademy.org
SUMMARY:2026 Cohort: Self-Study - D365CE Item by Item Training – Sales
DESCRIPTION:Self-Study: D365 Sales IBI Training \nThese learning modules are self-paced and support your pursuit of the PL-200 and MB-910 Certifications. You will only have 30 days to complete this self-study. Delivered virtually via Teams to all students.\nThe Sales curriculum is crafted specifically for individuals who are new to Dynamics 365 Sales. It offers a clear\, step-by-step introduction to the tools and workflows that help manage customer relationships and drive sales. Through 37 easy-to-follow micro-courses and guided learning paths\, learners gain hands-on experience navigating the system and understanding the end-to-end sales cycle. \n\nGet familiar with the Sales app interface and navigation\nLearn how to manage customer data with accounts and contacts\nTrack emails\, calls\, and tasks using activity management\nUnderstand how to create and move opportunities through the sales pipeline\nExplore how to create quotes and use sales forecasting tools\n\nThis beginner-friendly curriculum ensures learners develop a strong grasp of CRM fundamentals and are prepared to use Dynamics 365 Sales in real-world contexts.
URL:https://techfluentacademy.org/event/2026-cohort-self-study-d365-fscm-ibi-training-5-day-session/
CATEGORIES:2026 Cohort,F&SCM Certification Track,Live Virtual
ORGANIZER;CN="TechFluent Academy":MAILTO:carol@techfluentacademy.org
END:VEVENT
END:VCALENDAR