BEGIN:VCALENDAR
VERSION:2.0
PRODID:-//TechFluent Academy - ECPv6.15.11//NONSGML v1.0//EN
CALSCALE:GREGORIAN
METHOD:PUBLISH
X-ORIGINAL-URL:https://techfluentacademy.org
X-WR-CALDESC:Events for TechFluent Academy
REFRESH-INTERVAL;VALUE=DURATION:PT1H
X-Robots-Tag:noindex
X-PUBLISHED-TTL:PT1H
BEGIN:VTIMEZONE
TZID:America/Chicago
BEGIN:DAYLIGHT
TZOFFSETFROM:-0600
TZOFFSETTO:-0500
TZNAME:CDT
DTSTART:20240310T080000
END:DAYLIGHT
BEGIN:STANDARD
TZOFFSETFROM:-0500
TZOFFSETTO:-0600
TZNAME:CST
DTSTART:20241103T070000
END:STANDARD
BEGIN:DAYLIGHT
TZOFFSETFROM:-0600
TZOFFSETTO:-0500
TZNAME:CDT
DTSTART:20250309T080000
END:DAYLIGHT
BEGIN:STANDARD
TZOFFSETFROM:-0500
TZOFFSETTO:-0600
TZNAME:CST
DTSTART:20251102T070000
END:STANDARD
BEGIN:DAYLIGHT
TZOFFSETFROM:-0600
TZOFFSETTO:-0500
TZNAME:CDT
DTSTART:20260308T080000
END:DAYLIGHT
BEGIN:STANDARD
TZOFFSETFROM:-0500
TZOFFSETTO:-0600
TZNAME:CST
DTSTART:20261101T070000
END:STANDARD
END:VTIMEZONE
BEGIN:VEVENT
DTSTART;TZID=America/Chicago:20250821T090000
DTEND;TZID=America/Chicago:20250821T160000
DTSTAMP:20260424T175512
CREATED:20250615T214841Z
LAST-MODIFIED:20251113T165713Z
UID:5689-1755766800-1755792000@techfluentacademy.org
SUMMARY:Intro to the Cloud & Azure\, with Tad Thompson
DESCRIPTION:Introduction to the Cloud & Azure \nwith Tad Thompson \nCloud Solution Architect at Microsoft \nIn this session\, you will learn what Cloud Computing and Azure Services are and how they support the modern workplace. You will be able to explain the various methods of delivery of computing services over the internet. You will be able to understand and discern responsibility model for software by Cloud Provider type. You will understand the Cloud Models and all features they have to offer. You will be introduced to Azure Fundamentals and the features offered to support the modern workplace. And\, you will be introduced to the types of jobs and careers available in this space in the event you are interested in pursuing this career journey. The instructor will make several resources available to you to help jumpstart your career. \nThis course was developed by Tad Thompson at Microsoft. \n 
URL:https://techfluentacademy.org/event/intro-to-the-cloud-azure-with-tad-thompson/
LOCATION:Sabathani Community Center\, 310 E. 38th Street\, Minneapolis\, MN\, 55409\, United States
CATEGORIES:2025 Cohort,CE-Power Platform Certification Track
ORGANIZER;CN="TechFluent Academy":MAILTO:carol@techfluentacademy.org
END:VEVENT
END:VCALENDAR