BEGIN:VCALENDAR
VERSION:2.0
PRODID:-//TechFluent Academy - ECPv6.15.11//NONSGML v1.0//EN
CALSCALE:GREGORIAN
METHOD:PUBLISH
X-WR-CALNAME:TechFluent Academy
X-ORIGINAL-URL:https://techfluentacademy.org
X-WR-CALDESC:Events for TechFluent Academy
REFRESH-INTERVAL;VALUE=DURATION:PT1H
X-Robots-Tag:noindex
X-PUBLISHED-TTL:PT1H
BEGIN:VTIMEZONE
TZID:America/Chicago
BEGIN:DAYLIGHT
TZOFFSETFROM:-0600
TZOFFSETTO:-0500
TZNAME:CDT
DTSTART:20240310T080000
END:DAYLIGHT
BEGIN:STANDARD
TZOFFSETFROM:-0500
TZOFFSETTO:-0600
TZNAME:CST
DTSTART:20241103T070000
END:STANDARD
BEGIN:DAYLIGHT
TZOFFSETFROM:-0600
TZOFFSETTO:-0500
TZNAME:CDT
DTSTART:20250309T080000
END:DAYLIGHT
BEGIN:STANDARD
TZOFFSETFROM:-0500
TZOFFSETTO:-0600
TZNAME:CST
DTSTART:20251102T070000
END:STANDARD
BEGIN:DAYLIGHT
TZOFFSETFROM:-0600
TZOFFSETTO:-0500
TZNAME:CDT
DTSTART:20260308T080000
END:DAYLIGHT
BEGIN:STANDARD
TZOFFSETFROM:-0500
TZOFFSETTO:-0600
TZNAME:CST
DTSTART:20261101T070000
END:STANDARD
END:VTIMEZONE
BEGIN:VEVENT
DTSTART;TZID=America/Chicago:20250825T090000
DTEND;TZID=America/Chicago:20250825T160000
DTSTAMP:20260424T180223
CREATED:20250615T220437Z
LAST-MODIFIED:20251113T165713Z
UID:5691-1756112400-1756137600@techfluentacademy.org
SUMMARY:Power Automate\, with Sam Stern
DESCRIPTION:Power Automate (3-Day Session) \nwith Sam Stern \nTechnology Consulting Supervisor at RSM US \nIn this session\, you will learn how the Power Automate functionality within Microsoft 365 replaces the need for most code-based functionality in today’s business platforms. At the end of this course\, you will be able to understand Power Automate’s role M365 and the different types of automation. We will explore business use cases for automating processes. You will create basic flows from scratch and leverage templates\, understanding core components like triggers\, actions\, and control structures. You will connect to data sources (e.g. Sharepoint\, OneDrive\, Dataverse) and implement logic to manage data flow. You will utilize expressions and functions to add advanced logic and integrate features like approvals and notifications. And\, finally you will learn to test\, debug\, publish and share techniques while adopting best practices for maintenance and iterative improvement. \nThis session was developed by Connor Ingram while employed at congruentX.
URL:https://techfluentacademy.org/event/power-automate/
LOCATION:Sabathani Community Center\, 310 E. 38th Street\, Minneapolis\, MN\, 55409\, United States
CATEGORIES:2025 Cohort,CE-Power Platform Certification Track
ORGANIZER;CN="TechFluent Academy":MAILTO:carol@techfluentacademy.org
END:VEVENT
END:VCALENDAR