BEGIN:VCALENDAR
VERSION:2.0
PRODID:-//TechFluent Academy - ECPv6.15.11//NONSGML v1.0//EN
CALSCALE:GREGORIAN
METHOD:PUBLISH
X-WR-CALNAME:TechFluent Academy
X-ORIGINAL-URL:https://techfluentacademy.org
X-WR-CALDESC:Events for TechFluent Academy
REFRESH-INTERVAL;VALUE=DURATION:PT1H
X-Robots-Tag:noindex
X-PUBLISHED-TTL:PT1H
BEGIN:VTIMEZONE
TZID:America/Chicago
BEGIN:DAYLIGHT
TZOFFSETFROM:-0600
TZOFFSETTO:-0500
TZNAME:CDT
DTSTART:20240310T080000
END:DAYLIGHT
BEGIN:STANDARD
TZOFFSETFROM:-0500
TZOFFSETTO:-0600
TZNAME:CST
DTSTART:20241103T070000
END:STANDARD
BEGIN:DAYLIGHT
TZOFFSETFROM:-0600
TZOFFSETTO:-0500
TZNAME:CDT
DTSTART:20250309T080000
END:DAYLIGHT
BEGIN:STANDARD
TZOFFSETFROM:-0500
TZOFFSETTO:-0600
TZNAME:CST
DTSTART:20251102T070000
END:STANDARD
BEGIN:DAYLIGHT
TZOFFSETFROM:-0600
TZOFFSETTO:-0500
TZNAME:CDT
DTSTART:20260308T080000
END:DAYLIGHT
BEGIN:STANDARD
TZOFFSETFROM:-0500
TZOFFSETTO:-0600
TZNAME:CST
DTSTART:20261101T070000
END:STANDARD
END:VTIMEZONE
BEGIN:VEVENT
DTSTART;TZID=America/Chicago:20250904T090000
DTEND;TZID=America/Chicago:20250904T160000
DTSTAMP:20260424T162818
CREATED:20250615T225241Z
LAST-MODIFIED:20251113T165713Z
UID:5705-1756976400-1757001600@techfluentacademy.org
SUMMARY:Intro to Customer Insight - Journeys with Zaini Sharif-Mohamed
DESCRIPTION:Intro to Customer Insight – Journeys \nwith Zaini Sharif-Mohamed \nMicrosoft Dynamics Consultant at Lana Partners \nIn this session\, we will introduce you to the Customer Insight – Journeys Module (what used to be known as the Marketing Module). At the completion of this course you will understand Marketing concepts and personas within the D365CE business application. You will understand the D365 Customer Insights – Journeys capabilities. You will get hands on with Generative AI journey design and marketing emails\, SMS message creation and push notifications\, customer segments\, event management\, landing pages and much more! And\, we will build your confidence in speaking to and creating marketing automation with D365CE Customer Insights – Journeys. \nThis course was developed by Adam Hallbeck of Microsoft.
URL:https://techfluentacademy.org/event/intro-to-customer-insight-journeys/
LOCATION:Sabathani Community Center\, 310 E. 38th Street\, Minneapolis\, MN\, 55409\, United States
CATEGORIES:2025 Cohort,CE-Power Platform Certification Track
ORGANIZER;CN="TechFluent Academy":MAILTO:carol@techfluentacademy.org
END:VEVENT
END:VCALENDAR