BEGIN:VCALENDAR
VERSION:2.0
PRODID:-//TechFluent Academy - ECPv6.15.11//NONSGML v1.0//EN
CALSCALE:GREGORIAN
METHOD:PUBLISH
X-WR-CALNAME:TechFluent Academy
X-ORIGINAL-URL:https://techfluentacademy.org
X-WR-CALDESC:Events for TechFluent Academy
REFRESH-INTERVAL;VALUE=DURATION:PT1H
X-Robots-Tag:noindex
X-PUBLISHED-TTL:PT1H
BEGIN:VTIMEZONE
TZID:America/Chicago
BEGIN:DAYLIGHT
TZOFFSETFROM:-0600
TZOFFSETTO:-0500
TZNAME:CDT
DTSTART:20240310T080000
END:DAYLIGHT
BEGIN:STANDARD
TZOFFSETFROM:-0500
TZOFFSETTO:-0600
TZNAME:CST
DTSTART:20241103T070000
END:STANDARD
BEGIN:DAYLIGHT
TZOFFSETFROM:-0600
TZOFFSETTO:-0500
TZNAME:CDT
DTSTART:20250309T080000
END:DAYLIGHT
BEGIN:STANDARD
TZOFFSETFROM:-0500
TZOFFSETTO:-0600
TZNAME:CST
DTSTART:20251102T070000
END:STANDARD
BEGIN:DAYLIGHT
TZOFFSETFROM:-0600
TZOFFSETTO:-0500
TZNAME:CDT
DTSTART:20260308T080000
END:DAYLIGHT
BEGIN:STANDARD
TZOFFSETFROM:-0500
TZOFFSETTO:-0600
TZNAME:CST
DTSTART:20261101T070000
END:STANDARD
END:VTIMEZONE
BEGIN:VEVENT
DTSTART;TZID=America/Chicago:20250918T090000
DTEND;TZID=America/Chicago:20250918T160000
DTSTAMP:20260424T162839
CREATED:20250615T235942Z
LAST-MODIFIED:20251113T165713Z
UID:5719-1758186000-1758211200@techfluentacademy.org
SUMMARY:Intro to Field Service App\, with Andrea Lange
DESCRIPTION:Introduction to Field Service App \nwith Andrea Lange \nTechnology Consulting Manager at RSM US LLP \nIn this session\, we will introduce the Field Service App and explain how and why this module is used by the Modern Workplace. We will share real world use cases and discuss the difference between Field Service versus Connected Field Service. You will learn each of the Field Service components – Work Orders\, Assets\, Inventory Management and Scheduling. We will then provide a detailed demo of the Field Service from the perspective of the Work Order Workflow as well as the Self-Scheduling Portal. When this course is complete\, you will have a detailed understanding of the Field Service App and know when it is appropriate to deploy this solution and how best to configure the default components for successful delivery. \nThis course was developed by William McLendon\, MVP of RSM US LLP. \n 
URL:https://techfluentacademy.org/event/intro-to-field-service-app/
LOCATION:Sabathani Community Center\, 310 E. 38th Street\, Minneapolis\, MN\, 55409\, United States
CATEGORIES:2025 Cohort,CE-Power Platform Certification Track
ORGANIZER;CN="TechFluent Academy":MAILTO:carol@techfluentacademy.org
END:VEVENT
BEGIN:VEVENT
DTSTART;TZID=America/Chicago:20250918T153000
DTEND;TZID=America/Chicago:20250918T160000
DTSTAMP:20260424T162839
CREATED:20250616T013310Z
LAST-MODIFIED:20251113T165713Z
UID:5745-1758209400-1758211200@techfluentacademy.org
SUMMARY:Assign D365CE Capstone Projects\, with Program Ambassador
DESCRIPTION:Assign D365CE Capstone Projects  \nProjects are DUE: Dec 1-5\, 2025
URL:https://techfluentacademy.org/event/assign-d365ce-capstone-projects-with-program-ambassador/
LOCATION:Sabathani Community Center\, 310 E. 38th Street\, Minneapolis\, MN\, 55409\, United States
CATEGORIES:2025 Cohort,CE-Power Platform Certification Track
ORGANIZER;CN="TechFluent Academy":MAILTO:carol@techfluentacademy.org
END:VEVENT
END:VCALENDAR