BEGIN:VCALENDAR
VERSION:2.0
PRODID:-//TechFluent Academy - ECPv6.15.11//NONSGML v1.0//EN
CALSCALE:GREGORIAN
METHOD:PUBLISH
X-WR-CALNAME:TechFluent Academy
X-ORIGINAL-URL:https://techfluentacademy.org
X-WR-CALDESC:Events for TechFluent Academy
REFRESH-INTERVAL;VALUE=DURATION:PT1H
X-Robots-Tag:noindex
X-PUBLISHED-TTL:PT1H
BEGIN:VTIMEZONE
TZID:America/Chicago
BEGIN:DAYLIGHT
TZOFFSETFROM:-0600
TZOFFSETTO:-0500
TZNAME:CDT
DTSTART:20240310T080000
END:DAYLIGHT
BEGIN:STANDARD
TZOFFSETFROM:-0500
TZOFFSETTO:-0600
TZNAME:CST
DTSTART:20241103T070000
END:STANDARD
BEGIN:DAYLIGHT
TZOFFSETFROM:-0600
TZOFFSETTO:-0500
TZNAME:CDT
DTSTART:20250309T080000
END:DAYLIGHT
BEGIN:STANDARD
TZOFFSETFROM:-0500
TZOFFSETTO:-0600
TZNAME:CST
DTSTART:20251102T070000
END:STANDARD
BEGIN:DAYLIGHT
TZOFFSETFROM:-0600
TZOFFSETTO:-0500
TZNAME:CDT
DTSTART:20260308T080000
END:DAYLIGHT
BEGIN:STANDARD
TZOFFSETFROM:-0500
TZOFFSETTO:-0600
TZNAME:CST
DTSTART:20261101T070000
END:STANDARD
END:VTIMEZONE
BEGIN:VEVENT
DTSTART;TZID=America/Chicago:20250820T130000
DTEND;TZID=America/Chicago:20250820T160000
DTSTAMP:20260422T191659
CREATED:20250614T204257Z
LAST-MODIFIED:20251113T165713Z
UID:5649-1755694800-1755705600@techfluentacademy.org
SUMMARY:Intro to UX / UI\, with Lenore Flower
DESCRIPTION:Introduction to UX / UI \nwith Lenore Flower \nCEO of Data Plumber \nIn this session\, you will be introduced to the concepts of User Experience and User Interface\, what they are and how they differ. By the end of the course\, you will be able to describe what UX / UI design is and why it’s important for creating easy-to-use and visually appealing digital products. You will be able to explain the needs and preferences of users and how they influence the design of websites and apps. You will be able to define the basic steps involved in UX / UI design\, including researching user needs\, creating simple designs\, and testing them with real users. You will be able to explain simple design principles like clarity\, simplicity\, and consistently\, and how they help make digital products easier to use. And finally\, you will be able to describe basic tools and techniques used in UX / UI design\, such as sketching\, wireframing\, and using simple design software. \nThis course developed by Deb Lashua MCT\, MCP\, retired. Deb designed this course while working as a Business Applications Product Strategy Manager at RSM US LLP \nNOTE ABOUT Live Virtual Delivery of Class: This class will be delivered Live Virtual\, which means the Instructor will not be present in the classroom. We strongly encourage all students to be present in the classroom as we will still have 2 Trainer Assistants present to assist with Lab Exercises and this material is quite intensive. However\, if you feel you will learn best attending from a Virtual Location\, you may make PRE-ARRANGEMENTS with the Program Manager 1 week in advance to attend Live Virtual. You are expected to be ENGAGED throughout the class – which means you will need to be commenting on the instruction\, asking questions in the Chat and interacting throughout the entire day with responses and emojis to the instructor in the Chat. Failure to be engaged will require that you attend all future Live Virtual Classes in person. This is non-negotiable.
URL:https://techfluentacademy.org/event/intro-to-ux-ui/
LOCATION:Sabathani Community Center\, 310 E. 38th Street\, Minneapolis\, MN\, 55409\, United States
CATEGORIES:2025 Cohort,Consulting Fundamentals
ORGANIZER;CN="TechFluent Academy":MAILTO:carol@techfluentacademy.org
END:VEVENT
END:VCALENDAR