BEGIN:VCALENDAR
VERSION:2.0
PRODID:-//TechFluent Academy - ECPv6.15.11//NONSGML v1.0//EN
CALSCALE:GREGORIAN
METHOD:PUBLISH
X-ORIGINAL-URL:https://techfluentacademy.org
X-WR-CALDESC:Events for TechFluent Academy
REFRESH-INTERVAL;VALUE=DURATION:PT1H
X-Robots-Tag:noindex
X-PUBLISHED-TTL:PT1H
BEGIN:VTIMEZONE
TZID:America/Chicago
BEGIN:DAYLIGHT
TZOFFSETFROM:-0600
TZOFFSETTO:-0500
TZNAME:CDT
DTSTART:20240310T080000
END:DAYLIGHT
BEGIN:STANDARD
TZOFFSETFROM:-0500
TZOFFSETTO:-0600
TZNAME:CST
DTSTART:20241103T070000
END:STANDARD
BEGIN:DAYLIGHT
TZOFFSETFROM:-0600
TZOFFSETTO:-0500
TZNAME:CDT
DTSTART:20250309T080000
END:DAYLIGHT
BEGIN:STANDARD
TZOFFSETFROM:-0500
TZOFFSETTO:-0600
TZNAME:CST
DTSTART:20251102T070000
END:STANDARD
BEGIN:DAYLIGHT
TZOFFSETFROM:-0600
TZOFFSETTO:-0500
TZNAME:CDT
DTSTART:20260308T080000
END:DAYLIGHT
BEGIN:STANDARD
TZOFFSETFROM:-0500
TZOFFSETTO:-0600
TZNAME:CST
DTSTART:20261101T070000
END:STANDARD
END:VTIMEZONE
BEGIN:VEVENT
DTSTART;TZID=America/Chicago:20250930T110000
DTEND;TZID=America/Chicago:20250930T120000
DTSTAMP:20260422T172855
CREATED:20250616T011838Z
LAST-MODIFIED:20251113T165713Z
UID:5738-1759230000-1759233600@techfluentacademy.org
SUMMARY:Testing Accommodations\, Exam Preparation\, with Carol Smock
DESCRIPTION:Testing Accommodations\, Exam Preparationwith Carol Smock \nExecutive Director at TechFluent Academy \nIn this session\, our Executive Director will help you understand the Testing Accommodations available as you prepare to take your Certification Exams. She will also provide Study Guides and resources available to help you prepare for the Certification Exams. \n 
URL:https://techfluentacademy.org/event/testing-accommodations-exam-preparation-with-morayo-allibalogun/
LOCATION:Sabathani Community Center\, 310 E. 38th Street\, Minneapolis\, MN\, 55409\, United States
CATEGORIES:2025 Cohort,Consulting Fundamentals
ORGANIZER;CN="TechFluent Academy":MAILTO:carol@techfluentacademy.org
END:VEVENT
BEGIN:VEVENT
DTSTART;TZID=America/Chicago:20250930T130000
DTEND;TZID=America/Chicago:20250930T160000
DTSTAMP:20260422T172855
CREATED:20250616T011152Z
LAST-MODIFIED:20251113T165713Z
UID:5731-1759237200-1759248000@techfluentacademy.org
SUMMARY:Resume\, Cover Letter & LinkedIN Profile Workshop\, with Andrew Riordan
DESCRIPTION:with Andrew Riordan \nFounding Consultant\, Power 365 Recruitment \n  \nResume\, Cover Letter & LinkedIN Profile Workshop \n• Understand keys to successful resumes and how to stand out as an applicant\n• Understand various approaches and benefits/drawbacks of each\n• Understand best practices and different approaches for common scenarios\n• Understand fundamentals of LinkedIn\n• Understand various aspects of SEO and getting one’s profile viewed\n• Understand best practices and different approaches for common scenarios \n 
URL:https://techfluentacademy.org/event/resume-cover-letter-linkedin-profile-workshop/
LOCATION:Sabathani Community Center\, 310 E. 38th Street\, Minneapolis\, MN\, 55409\, United States
CATEGORIES:2025 Cohort,Consulting Fundamentals
ORGANIZER;CN="TechFluent Academy":MAILTO:carol@techfluentacademy.org
END:VEVENT
END:VCALENDAR