BEGIN:VCALENDAR
VERSION:2.0
PRODID:-//TechFluent Academy - ECPv6.15.11//NONSGML v1.0//EN
CALSCALE:GREGORIAN
METHOD:PUBLISH
X-WR-CALNAME:TechFluent Academy
X-ORIGINAL-URL:https://techfluentacademy.org
X-WR-CALDESC:Events for TechFluent Academy
REFRESH-INTERVAL;VALUE=DURATION:PT1H
X-Robots-Tag:noindex
X-PUBLISHED-TTL:PT1H
BEGIN:VTIMEZONE
TZID:America/Chicago
BEGIN:DAYLIGHT
TZOFFSETFROM:-0600
TZOFFSETTO:-0500
TZNAME:CDT
DTSTART:20240310T080000
END:DAYLIGHT
BEGIN:STANDARD
TZOFFSETFROM:-0500
TZOFFSETTO:-0600
TZNAME:CST
DTSTART:20241103T070000
END:STANDARD
BEGIN:DAYLIGHT
TZOFFSETFROM:-0600
TZOFFSETTO:-0500
TZNAME:CDT
DTSTART:20250309T080000
END:DAYLIGHT
BEGIN:STANDARD
TZOFFSETFROM:-0500
TZOFFSETTO:-0600
TZNAME:CST
DTSTART:20251102T070000
END:STANDARD
BEGIN:DAYLIGHT
TZOFFSETFROM:-0600
TZOFFSETTO:-0500
TZNAME:CDT
DTSTART:20260308T080000
END:DAYLIGHT
BEGIN:STANDARD
TZOFFSETFROM:-0500
TZOFFSETTO:-0600
TZNAME:CST
DTSTART:20261101T070000
END:STANDARD
END:VTIMEZONE
BEGIN:VEVENT
DTSTART;TZID=America/Chicago:20250709T090000
DTEND;TZID=America/Chicago:20250709T120000
DTSTAMP:20260422T224421
CREATED:20250614T164924Z
LAST-MODIFIED:20251113T165747Z
UID:5599-1752051600-1752062400@techfluentacademy.org
SUMMARY:Learner Mindset\, with Julie Jared\, DAC\, PMP\, PMI-ACP\, DASSM
DESCRIPTION:Learner Mindset \nwith Julie Jared\, DAC\, PMP\, PMI-ACP\, DASSM \nIT Project Manager at The Vomela Companies \nIn this course\, you will be exposed to what it takes to move forward with a true Learner Mindset. Upon completing the course you will be able to define and exhibit Growth Mindset attributes at work and at home\, like open mindedness and agility of thought. You will be able to identify the four key components of effective feedback. And\, you will be able to construct a data and impact focused statement of feed back in a way that positively promotes growth and improvement with your peers\, subordinates and superiors. \nThis content developed by Lindsay Millett-Glass of Stoneridge Software and Elizabeth Fleming\,PsyD of Apidae Consulting
URL:https://techfluentacademy.org/event/learner-mindset-with-julie-jared/
LOCATION:Sabathani Community Center\, 310 E. 38th Street\, Minneapolis\, MN\, 55409\, United States
CATEGORIES:2025 Cohort,Consulting Fundamentals
ORGANIZER;CN="TechFluent Academy":MAILTO:carol@techfluentacademy.org
END:VEVENT
BEGIN:VEVENT
DTSTART;TZID=America/Chicago:20250709T130000
DTEND;TZID=America/Chicago:20250709T160000
DTSTAMP:20260422T224421
CREATED:20250614T175227Z
LAST-MODIFIED:20251113T165747Z
UID:5602-1752066000-1752076800@techfluentacademy.org
SUMMARY:Day in a Life Panel\, Moderated by Carol Smock
DESCRIPTION:Day in the Life Panel \nModerated by Carol Smock \nExecutive Director\, TechFluent Academy \nIn this session\, you will meet several professionals with varying types of careers in the Microsoft Industry. They will share how they achieved their careers\, what they “do in a typical day” and field questions from you\, the Learners\, until you are comfortable that you understand the journey you are embarking upon. \n      \nKenan Al. Mahayni\, Solutions Engineer at Microsoft | AI ERP \nScott LeFante\, Portfolio Partner at congruentX \nTahani Abu-Shamala\, Manager at RSM US LLP \nHenry Lin\, Senior Consultant at Slalom \nJonathan Monson\, OCM Professional \nSheila Flikeid\, OCM Professional (transitioned from CE / Power Platform)
URL:https://techfluentacademy.org/event/day-in-a-life-panel-moderated-by-carol-smock/
LOCATION:Sabathani Community Center\, 310 E. 38th Street\, Minneapolis\, MN\, 55409\, United States
CATEGORIES:2025 Cohort,Consulting Fundamentals
ORGANIZER;CN="TechFluent Academy":MAILTO:carol@techfluentacademy.org
END:VEVENT
END:VCALENDAR