BEGIN:VCALENDAR
VERSION:2.0
PRODID:-//TechFluent Academy - ECPv6.15.11//NONSGML v1.0//EN
CALSCALE:GREGORIAN
METHOD:PUBLISH
X-ORIGINAL-URL:https://techfluentacademy.org
X-WR-CALDESC:Events for TechFluent Academy
REFRESH-INTERVAL;VALUE=DURATION:PT1H
X-Robots-Tag:noindex
X-PUBLISHED-TTL:PT1H
BEGIN:VTIMEZONE
TZID:America/Chicago
BEGIN:DAYLIGHT
TZOFFSETFROM:-0600
TZOFFSETTO:-0500
TZNAME:CDT
DTSTART:20240310T080000
END:DAYLIGHT
BEGIN:STANDARD
TZOFFSETFROM:-0500
TZOFFSETTO:-0600
TZNAME:CST
DTSTART:20241103T070000
END:STANDARD
BEGIN:DAYLIGHT
TZOFFSETFROM:-0600
TZOFFSETTO:-0500
TZNAME:CDT
DTSTART:20250309T080000
END:DAYLIGHT
BEGIN:STANDARD
TZOFFSETFROM:-0500
TZOFFSETTO:-0600
TZNAME:CST
DTSTART:20251102T070000
END:STANDARD
BEGIN:DAYLIGHT
TZOFFSETFROM:-0600
TZOFFSETTO:-0500
TZNAME:CDT
DTSTART:20260308T080000
END:DAYLIGHT
BEGIN:STANDARD
TZOFFSETFROM:-0500
TZOFFSETTO:-0600
TZNAME:CST
DTSTART:20261101T070000
END:STANDARD
END:VTIMEZONE
BEGIN:VEVENT
DTSTART;TZID=America/Chicago:20250710T090000
DTEND;TZID=America/Chicago:20250710T120000
DTSTAMP:20260422T224613
CREATED:20250614T181725Z
LAST-MODIFIED:20251113T165747Z
UID:5612-1752138000-1752148800@techfluentacademy.org
SUMMARY:How to be Influential\, with Bobby Small MVP
DESCRIPTION:How to be Influential \nwith Bobby Small MVP \nMicrosoft MVP & Community Strategy Director at Dynamics User Group \nThis course is designed to help you become your most Influential Self. Upon completing this course you will be able to utilize storytelling techniques to effectively communicate complex business concepts in an engaging and illustrative way with leveraging data points. You will be able to tailor communications that align with target audiences and client personas. And you will be able to apply the components of of influence to effectively manage outcomes and over comes obstacles with others. \nThis course designed by Lindsay Millett-Glass of Stoneridge Software and Elizabeth Fleming\, PsyD of Apidae Consulting \nOur instructor will be Live Virtual for this class\, however ALL PARTICIPANTS ARE REQUIRED to attend in-person on this date. 
URL:https://techfluentacademy.org/event/how-to-be-influential/
LOCATION:Sabathani Community Center\, 310 E. 38th Street\, Minneapolis\, MN\, 55409\, United States
CATEGORIES:2025 Cohort,Consulting Fundamentals
ORGANIZER;CN="TechFluent Academy":MAILTO:carol@techfluentacademy.org
END:VEVENT
BEGIN:VEVENT
DTSTART;TZID=America/Chicago:20250710T130000
DTEND;TZID=America/Chicago:20250710T160000
DTSTAMP:20260422T224613
CREATED:20250614T183631Z
LAST-MODIFIED:20251113T165747Z
UID:5614-1752152400-1752163200@techfluentacademy.org
SUMMARY:Collaboration with Different Perspectives\, with Julie Jared\, DAC\, PMP\, PMI-ACP\, DASSM
DESCRIPTION:Collaboration with Different Perspectives \nwith Julie Jared\, DAC\, PMP\, PMI-ACP\, DASSM \nIT Project Manager\, The Vomela Companies \nIn this session\, you will learn how to collaborate with people who bring differing perspectives to the table. Upon completion of this course\, you will be able to explain the impacts of and differences between unconscious bias and psychological safety. You will be able to promote psychological safety in the workplace for yourself and others. And\, you will be able to apply bias-aware practices to create a supportive environment where diverse perspectives are valued. \nThis course designed by Lindsay Millett-Glass of Stoneridge Software. \n 
URL:https://techfluentacademy.org/event/collaboration-with-different-perspectives-with-julie-jared-dac-pmp-pmi-acp-dassm/
LOCATION:Sabathani Community Center\, 310 E. 38th Street\, Minneapolis\, MN\, 55409\, United States
CATEGORIES:2025 Cohort,Consulting Fundamentals
ORGANIZER;CN="TechFluent Academy":MAILTO:carol@techfluentacademy.org
END:VEVENT
END:VCALENDAR