BEGIN:VCALENDAR
VERSION:2.0
PRODID:-//TechFluent Academy - ECPv6.15.11//NONSGML v1.0//EN
CALSCALE:GREGORIAN
METHOD:PUBLISH
X-WR-CALNAME:TechFluent Academy
X-ORIGINAL-URL:https://techfluentacademy.org
X-WR-CALDESC:Events for TechFluent Academy
REFRESH-INTERVAL;VALUE=DURATION:PT1H
X-Robots-Tag:noindex
X-PUBLISHED-TTL:PT1H
BEGIN:VTIMEZONE
TZID:America/Chicago
BEGIN:DAYLIGHT
TZOFFSETFROM:-0600
TZOFFSETTO:-0500
TZNAME:CDT
DTSTART:20240310T080000
END:DAYLIGHT
BEGIN:STANDARD
TZOFFSETFROM:-0500
TZOFFSETTO:-0600
TZNAME:CST
DTSTART:20241103T070000
END:STANDARD
BEGIN:DAYLIGHT
TZOFFSETFROM:-0600
TZOFFSETTO:-0500
TZNAME:CDT
DTSTART:20250309T080000
END:DAYLIGHT
BEGIN:STANDARD
TZOFFSETFROM:-0500
TZOFFSETTO:-0600
TZNAME:CST
DTSTART:20251102T070000
END:STANDARD
BEGIN:DAYLIGHT
TZOFFSETFROM:-0600
TZOFFSETTO:-0500
TZNAME:CDT
DTSTART:20260308T080000
END:DAYLIGHT
BEGIN:STANDARD
TZOFFSETFROM:-0500
TZOFFSETTO:-0600
TZNAME:CST
DTSTART:20261101T070000
END:STANDARD
END:VTIMEZONE
BEGIN:VEVENT
DTSTART;TZID=America/Chicago:20250730T090000
DTEND;TZID=America/Chicago:20250730T160000
DTSTAMP:20260422T224337
CREATED:20250614T203214Z
LAST-MODIFIED:20251113T165714Z
UID:5647-1753866000-1753891200@techfluentacademy.org
SUMMARY:Intro to CE / CRM\, with Kevin Bronke
DESCRIPTION:Introduction to CE / CRM \nwith Kevin Bronke \nIn this session\, we will introduce you to the the core concept of Customer Relationship Management (CRM) and its significance for modern business. We will explore the key benefits of CRM\, including improved customer relationships\, increased sales\, and enhanced operational efficiency. And we will understand which jobs and roles within a business or organization use CRM systems and how. Digging deeper\, we will explore how CRM platforms are utilized within an organization’s technical infrastructure to streamline business process\, automate tasks\, and foster collaboration across teams. And\, we will discuss how you can leverage what you learn in this course to gain practical experience toward the first step in your career. \nThis course was designed by Felix Ndugwa\, MSc. of Microsoft.
URL:https://techfluentacademy.org/event/intro-to-ce-crm/
LOCATION:Sabathani Community Center\, 310 E. 38th Street\, Minneapolis\, MN\, 55409\, United States
CATEGORIES:2025 Cohort,Consulting Fundamentals
ORGANIZER;CN="TechFluent Academy":MAILTO:carol@techfluentacademy.org
END:VEVENT
END:VCALENDAR