BEGIN:VCALENDAR
VERSION:2.0
PRODID:-//TechFluent Academy - ECPv6.15.11//NONSGML v1.0//EN
CALSCALE:GREGORIAN
METHOD:PUBLISH
X-ORIGINAL-URL:https://techfluentacademy.org
X-WR-CALDESC:Events for TechFluent Academy
REFRESH-INTERVAL;VALUE=DURATION:PT1H
X-Robots-Tag:noindex
X-PUBLISHED-TTL:PT1H
BEGIN:VTIMEZONE
TZID:America/Chicago
BEGIN:DAYLIGHT
TZOFFSETFROM:-0600
TZOFFSETTO:-0500
TZNAME:CDT
DTSTART:20240310T080000
END:DAYLIGHT
BEGIN:STANDARD
TZOFFSETFROM:-0500
TZOFFSETTO:-0600
TZNAME:CST
DTSTART:20241103T070000
END:STANDARD
BEGIN:DAYLIGHT
TZOFFSETFROM:-0600
TZOFFSETTO:-0500
TZNAME:CDT
DTSTART:20250309T080000
END:DAYLIGHT
BEGIN:STANDARD
TZOFFSETFROM:-0500
TZOFFSETTO:-0600
TZNAME:CST
DTSTART:20251102T070000
END:STANDARD
BEGIN:DAYLIGHT
TZOFFSETFROM:-0600
TZOFFSETTO:-0500
TZNAME:CDT
DTSTART:20260308T080000
END:DAYLIGHT
BEGIN:STANDARD
TZOFFSETFROM:-0500
TZOFFSETTO:-0600
TZNAME:CST
DTSTART:20261101T070000
END:STANDARD
END:VTIMEZONE
BEGIN:VEVENT
DTSTART;VALUE=DATE:20251019
DTEND;VALUE=DATE:20251024
DTSTAMP:20260422T173139
CREATED:20250616T012718Z
LAST-MODIFIED:20251113T165712Z
UID:5740-1760832000-1761263999@techfluentacademy.org
SUMMARY:Community Summit - Orlando\, FL
DESCRIPTION:     \nCommunity Summit North America is the largest independent innovation\, learning\, and training event of the Microsoft Business Applications ecosystem. You’ll get real-world tips & tricks and advanced strategies around the issues you’re tackling in this changing business landscape. Summit NA has hundreds of informative and educational sessions to deliver end-to-end learning around all versions of Dynamics 365 FO/AX\, CE/CRM & BC/NAV\, Dynamics GP & SL\, and the Microsoft Power Platform. \nEach year\, Dynamics Communities\, a Major Community Sponsor of TechFluent Academy\, generously sponsors up to 10 Learners to attend the Summit as a learning and networking opportunity. In the past\, many of those in attendance have left the Summit with job offers. Many return as speakers in future years\, elevating their visibility in the marketplace and lighting their careers on fire!
URL:https://techfluentacademy.org/event/community-summit-orlando-fl/
LOCATION:Gaylord Palms Resort\, Kissimee\, Florida\, United States
CATEGORIES:2025 Cohort,CE-Power Platform Certification Track,Consulting Fundamentals,Microsoft Fundamentals,Tech Fundamentals Class
ORGANIZER;CN="Dynamics Communities":MAILTO:summitna@dynamiccommunities.com
END:VEVENT
END:VCALENDAR