BEGIN:VCALENDAR
VERSION:2.0
PRODID:-//TechFluent Academy - ECPv6.15.11//NONSGML v1.0//EN
CALSCALE:GREGORIAN
METHOD:PUBLISH
X-WR-CALNAME:TechFluent Academy
X-ORIGINAL-URL:https://techfluentacademy.org
X-WR-CALDESC:Events for TechFluent Academy
REFRESH-INTERVAL;VALUE=DURATION:PT1H
X-Robots-Tag:noindex
X-PUBLISHED-TTL:PT1H
BEGIN:VTIMEZONE
TZID:America/Chicago
BEGIN:DAYLIGHT
TZOFFSETFROM:-0600
TZOFFSETTO:-0500
TZNAME:CDT
DTSTART:20250309T080000
END:DAYLIGHT
BEGIN:STANDARD
TZOFFSETFROM:-0500
TZOFFSETTO:-0600
TZNAME:CST
DTSTART:20251102T070000
END:STANDARD
BEGIN:DAYLIGHT
TZOFFSETFROM:-0600
TZOFFSETTO:-0500
TZNAME:CDT
DTSTART:20260308T080000
END:DAYLIGHT
BEGIN:STANDARD
TZOFFSETFROM:-0500
TZOFFSETTO:-0600
TZNAME:CST
DTSTART:20261101T070000
END:STANDARD
BEGIN:DAYLIGHT
TZOFFSETFROM:-0600
TZOFFSETTO:-0500
TZNAME:CDT
DTSTART:20270314T080000
END:DAYLIGHT
BEGIN:STANDARD
TZOFFSETFROM:-0500
TZOFFSETTO:-0600
TZNAME:CST
DTSTART:20271107T070000
END:STANDARD
END:VTIMEZONE
BEGIN:VEVENT
DTSTART;TZID=America/Chicago:20260107T090000
DTEND;TZID=America/Chicago:20260107T160000
DTSTAMP:20260422T075832
CREATED:20251027T151801Z
LAST-MODIFIED:20251223T181658Z
UID:6471-1767776400-1767801600@techfluentacademy.org
SUMMARY:2026 Cohort: Intro to Delivery Management\, with Sienna Howlett-Wagner and Staci Cotter
DESCRIPTION:Sienna Howlett-Wagner and Staci Cotter \nSienna is an F&SCM Industry Delivery Consultant & TechFluent Board Treasurer \nStaci is a Senior Project Manager at WinfoSoft \nIntroduction to Delivery Management \nIn this session\, we will introduce you to the concept of Delivery Management. At the completion of this course\, you will understand the key differences between Delivery Management and Project Management. This course is intended to showcase how Microsoft Partners leverage Delivery Managers / Directors to insure what the client purchased is delivered. By the end of this class you will understand where the role of the Delivery Lead ends and the role of the PM begins – seamlessly managing the client\, program and deliverables. \nLearning Objectives \nBy the end of this course\, participants will be able to: \n\nUnderstand the role and responsibilities of a delivery manager on a D365 or on a Cross Platform Project\nApply delivery frameworks (Agile\, Scrum\, Success by Design) in real-world scenarios\nManage scope\, timelines\, risks\, and dependencies across complex initiatives\nFacilitate effective communication between technical and non-technical stakeholders\nUse metrics and KPIs to track progress and drive continuous improvement\nNavigate organizational dynamics and foster high-performing teams
URL:https://techfluentacademy.org/event/2026-cohort-intro-to-delivery-management/
CATEGORIES:2026 Cohort,Consulting Fundamentals,Live Virtual
ORGANIZER;CN="TechFluent Academy":MAILTO:carol@techfluentacademy.org
END:VEVENT
END:VCALENDAR