BEGIN:VCALENDAR
VERSION:2.0
PRODID:-//TechFluent Academy - ECPv6.15.11//NONSGML v1.0//EN
CALSCALE:GREGORIAN
METHOD:PUBLISH
X-WR-CALNAME:TechFluent Academy
X-ORIGINAL-URL:https://techfluentacademy.org
X-WR-CALDESC:Events for TechFluent Academy
REFRESH-INTERVAL;VALUE=DURATION:PT1H
X-Robots-Tag:noindex
X-PUBLISHED-TTL:PT1H
BEGIN:VTIMEZONE
TZID:America/Chicago
BEGIN:DAYLIGHT
TZOFFSETFROM:-0600
TZOFFSETTO:-0500
TZNAME:CDT
DTSTART:20250309T080000
END:DAYLIGHT
BEGIN:STANDARD
TZOFFSETFROM:-0500
TZOFFSETTO:-0600
TZNAME:CST
DTSTART:20251102T070000
END:STANDARD
BEGIN:DAYLIGHT
TZOFFSETFROM:-0600
TZOFFSETTO:-0500
TZNAME:CDT
DTSTART:20260308T080000
END:DAYLIGHT
BEGIN:STANDARD
TZOFFSETFROM:-0500
TZOFFSETTO:-0600
TZNAME:CST
DTSTART:20261101T070000
END:STANDARD
BEGIN:DAYLIGHT
TZOFFSETFROM:-0600
TZOFFSETTO:-0500
TZNAME:CDT
DTSTART:20270314T080000
END:DAYLIGHT
BEGIN:STANDARD
TZOFFSETFROM:-0500
TZOFFSETTO:-0600
TZNAME:CST
DTSTART:20271107T070000
END:STANDARD
END:VTIMEZONE
BEGIN:VEVENT
DTSTART;TZID=America/Chicago:20260213T090000
DTEND;TZID=America/Chicago:20260213T120000
DTSTAMP:20260422T063744
CREATED:20251027T160445Z
LAST-MODIFIED:20251223T160725Z
UID:6499-1770973200-1770984000@techfluentacademy.org
SUMMARY:2026 Cohort: Intro to UX / UI\, with Lenore Flower
DESCRIPTION:Intro to UX/UI  \nwith Lenore Flower \nFounder/Chief Data Plumber at Data Plumber \nIn this session\, you will be introduced to the concepts of User Experience and User Interface\, what they are and how they differ. By the end of the course\, you will be able to describe what UX / UI design is and why it’s important for creating easy-to-use and visually appealing digital products. You will be able to explain the needs and preferences of users and how they influence the design of websites and apps. You will be able to define the basic steps involved in UX / UI design\, including researching user needs\, creating simple designs\, and testing them with real users. You will be able to explain simple design principles like clarity\, simplicity\, and consistently\, and how they help make digital products easier to use. And finally\, you will be able to describe basic tools and techniques used in UX / UI design\, such as sketching\, wireframing\, and using simple design software. \n 
URL:https://techfluentacademy.org/event/2026-cohort-intro-to-ux-ui/
CATEGORIES:2026 Cohort,Consulting Fundamentals,Live Virtual
ORGANIZER;CN="TechFluent Academy":MAILTO:carol@techfluentacademy.org
END:VEVENT
END:VCALENDAR