BEGIN:VCALENDAR
VERSION:2.0
PRODID:-//TechFluent Academy - ECPv6.15.11//NONSGML v1.0//EN
CALSCALE:GREGORIAN
METHOD:PUBLISH
X-WR-CALNAME:TechFluent Academy
X-ORIGINAL-URL:https://techfluentacademy.org
X-WR-CALDESC:Events for TechFluent Academy
REFRESH-INTERVAL;VALUE=DURATION:PT1H
X-Robots-Tag:noindex
X-PUBLISHED-TTL:PT1H
BEGIN:VTIMEZONE
TZID:America/Chicago
BEGIN:DAYLIGHT
TZOFFSETFROM:-0600
TZOFFSETTO:-0500
TZNAME:CDT
DTSTART:20250309T080000
END:DAYLIGHT
BEGIN:STANDARD
TZOFFSETFROM:-0500
TZOFFSETTO:-0600
TZNAME:CST
DTSTART:20251102T070000
END:STANDARD
BEGIN:DAYLIGHT
TZOFFSETFROM:-0600
TZOFFSETTO:-0500
TZNAME:CDT
DTSTART:20260308T080000
END:DAYLIGHT
BEGIN:STANDARD
TZOFFSETFROM:-0500
TZOFFSETTO:-0600
TZNAME:CST
DTSTART:20261101T070000
END:STANDARD
BEGIN:DAYLIGHT
TZOFFSETFROM:-0600
TZOFFSETTO:-0500
TZNAME:CDT
DTSTART:20270314T080000
END:DAYLIGHT
BEGIN:STANDARD
TZOFFSETFROM:-0500
TZOFFSETTO:-0600
TZNAME:CST
DTSTART:20271107T070000
END:STANDARD
END:VTIMEZONE
BEGIN:VEVENT
DTSTART;TZID=America/Chicago:20260520T090000
DTEND;TZID=America/Chicago:20260520T130000
DTSTAMP:20260424T082810
CREATED:20260422T145137Z
LAST-MODIFIED:20260422T145237Z
UID:7159-1779267600-1779282000@techfluentacademy.org
SUMMARY:Sales\, Service\, and Marketing Copilot Workshop with Mary Myers
DESCRIPTION:Sales\, Marketing and Customer Service Co-Pilot \nwith Mary Myers \nChief Maximizer at WorldMax \nThis hands-on course equips professionals with the skills to harness Microsoft Copilot across sales\, marketing\, and customer service functions. Participants will learn how to streamline workflows\, personalize customer engagement\, and drive data-informed decisions using AI-powered tools embedded in Dynamics 365. \nThrough real-world scenarios and guided practice\, learners will explore how Copilot enhances productivity—from drafting compelling marketing content and analyzing campaign performance to generating sales insights and resolving customer inquiries with speed and precision. \nBy the end of the course\, participants will be able to: \n\nAutomate routine tasks and communications across CRM and marketing platforms\nUse Copilot to extract actionable insights from customer data and sales pipelines\nGenerate persuasive content for campaigns\, proposals\, and customer outreach\nImprove customer service responsiveness and personalization using AI assistance\nIntegrate Copilot into daily workflows for consistent\, scalable impact
URL:https://techfluentacademy.org/event/sales-service-and-marketing-copilot-workshop-with-mary-myers/
CATEGORIES:2026 Cohort,CE-Power Platform Certification Track,Live Virtual
ORGANIZER;CN="TechFluent Academy":MAILTO:carol@techfluentacademy.org
END:VEVENT
END:VCALENDAR