BEGIN:VCALENDAR
VERSION:2.0
PRODID:-//TechFluent Academy - ECPv6.15.11//NONSGML v1.0//EN
CALSCALE:GREGORIAN
METHOD:PUBLISH
X-WR-CALNAME:TechFluent Academy
X-ORIGINAL-URL:https://techfluentacademy.org
X-WR-CALDESC:Events for TechFluent Academy
REFRESH-INTERVAL;VALUE=DURATION:PT1H
X-Robots-Tag:noindex
X-PUBLISHED-TTL:PT1H
BEGIN:VTIMEZONE
TZID:America/Chicago
BEGIN:DAYLIGHT
TZOFFSETFROM:-0600
TZOFFSETTO:-0500
TZNAME:CDT
DTSTART:20240310T080000
END:DAYLIGHT
BEGIN:STANDARD
TZOFFSETFROM:-0500
TZOFFSETTO:-0600
TZNAME:CST
DTSTART:20241103T070000
END:STANDARD
BEGIN:DAYLIGHT
TZOFFSETFROM:-0600
TZOFFSETTO:-0500
TZNAME:CDT
DTSTART:20250309T080000
END:DAYLIGHT
BEGIN:STANDARD
TZOFFSETFROM:-0500
TZOFFSETTO:-0600
TZNAME:CST
DTSTART:20251102T070000
END:STANDARD
BEGIN:DAYLIGHT
TZOFFSETFROM:-0600
TZOFFSETTO:-0500
TZNAME:CDT
DTSTART:20260308T080000
END:DAYLIGHT
BEGIN:STANDARD
TZOFFSETFROM:-0500
TZOFFSETTO:-0600
TZNAME:CST
DTSTART:20261101T070000
END:STANDARD
END:VTIMEZONE
BEGIN:VEVENT
DTSTART;TZID=America/Chicago:20251009T090000
DTEND;TZID=America/Chicago:20251009T120000
DTSTAMP:20260422T142645
CREATED:20250616T015730Z
LAST-MODIFIED:20251113T165713Z
UID:5756-1760000400-1760011200@techfluentacademy.org
SUMMARY:Self-Study: Master Microsoft Excel\, Day 3
DESCRIPTION:Master Microsoft Excel (13 hours total) \nEmployers around the world cite Microsoft Excel as one of the most sought-after skills for any new hire. This learning path helps you become an Excel power user—covering everything from functions and formatting to PivotTables and dashboards. Master the powerful features and functions in Excel. Learn how to use Excel’s robust built-in formulas. Get up to speed on PivotTables\, dashboards\, and Power Query. \nRecommend completing 3 hours on Day 3.
URL:https://techfluentacademy.org/event/self-study-master-microsoft-excel-day-3/
CATEGORIES:2025 Cohort,Microsoft Fundamentals
ORGANIZER;CN="TechFluent Academy":MAILTO:carol@techfluentacademy.org
END:VEVENT
BEGIN:VEVENT
DTSTART;TZID=America/Chicago:20251008T090000
DTEND;TZID=America/Chicago:20251008T130000
DTSTAMP:20260422T142645
CREATED:20250616T015544Z
LAST-MODIFIED:20251113T165713Z
UID:5754-1759914000-1759928400@techfluentacademy.org
SUMMARY:Self-Study: Master Microsoft Excel\, Day 2
DESCRIPTION:Master Microsoft Excel (13 hours total) \nEmployers around the world cite Microsoft Excel as one of the most sought-after skills for any new hire. This learning path helps you become an Excel power user—covering everything from functions and formatting to PivotTables and dashboards. Master the powerful features and functions in Excel. Learn how to use Excel’s robust built-in formulas. Get up to speed on PivotTables\, dashboards\, and Power Query. \nRecommend completing 5 hours on Day 2.
URL:https://techfluentacademy.org/event/self-study-master-microsoft-excel-day-2/
CATEGORIES:2025 Cohort,Microsoft Fundamentals
ORGANIZER;CN="TechFluent Academy":MAILTO:carol@techfluentacademy.org
END:VEVENT
END:VCALENDAR