BEGIN:VCALENDAR
VERSION:2.0
PRODID:-//TechFluent Academy - ECPv6.15.11//NONSGML v1.0//EN
CALSCALE:GREGORIAN
METHOD:PUBLISH
X-WR-CALNAME:TechFluent Academy
X-ORIGINAL-URL:https://techfluentacademy.org
X-WR-CALDESC:Events for TechFluent Academy
REFRESH-INTERVAL;VALUE=DURATION:PT1H
X-Robots-Tag:noindex
X-PUBLISHED-TTL:PT1H
BEGIN:VTIMEZONE
TZID:America/Chicago
BEGIN:DAYLIGHT
TZOFFSETFROM:-0600
TZOFFSETTO:-0500
TZNAME:CDT
DTSTART:20250309T080000
END:DAYLIGHT
BEGIN:STANDARD
TZOFFSETFROM:-0500
TZOFFSETTO:-0600
TZNAME:CST
DTSTART:20251102T070000
END:STANDARD
BEGIN:DAYLIGHT
TZOFFSETFROM:-0600
TZOFFSETTO:-0500
TZNAME:CDT
DTSTART:20260308T080000
END:DAYLIGHT
BEGIN:STANDARD
TZOFFSETFROM:-0500
TZOFFSETTO:-0600
TZNAME:CST
DTSTART:20261101T070000
END:STANDARD
BEGIN:DAYLIGHT
TZOFFSETFROM:-0600
TZOFFSETTO:-0500
TZNAME:CDT
DTSTART:20270314T080000
END:DAYLIGHT
BEGIN:STANDARD
TZOFFSETFROM:-0500
TZOFFSETTO:-0600
TZNAME:CST
DTSTART:20271107T070000
END:STANDARD
END:VTIMEZONE
BEGIN:VEVENT
DTSTART;TZID=America/Chicago:20260121T090000
DTEND;TZID=America/Chicago:20260121T160000
DTSTAMP:20260422T080823
CREATED:20250618T030818Z
LAST-MODIFIED:20251113T165556Z
UID:5854-1768986000-1769011200@techfluentacademy.org
SUMMARY:Working in the Power BI Service\, with Jessica Jolly
DESCRIPTION:Working in the Power BI Service \nwith Jessica Jolly \nData Quilter specializing in Microsoft Fabric \nThe purpose of this training day is to give participants a strong understanding of the Power BI Service. Learners will be able to articulate what work is best done in the Service and what work is best done in the Power BI Desktop. They will be trained in best practices in sharing reports (e.g. controlling “security sprawl”) within the organization. They will understand the constraints imposed by licensing. They will be briefed on Power BI Premium\, when and why Premium is necessary. \nTopics will include\, but are not limited to: \n\n\n\nWorkspaces\nApps (using and creating)\nSetting a refresh schedule\nEditing reports and dashboards\nCreating a dashboard\nCreating a workspace and assigning roles
URL:https://techfluentacademy.org/event/working-in-the-power-bi-service-with-jessica-jolly/
LOCATION:Sabathani Community Center\, 310 E. 38th Street\, Minneapolis\, MN\, 55409\, United States
CATEGORIES:2025 Cohort,Power BI Certification Track
ORGANIZER;CN="TechFluent Academy":MAILTO:carol@techfluentacademy.org
END:VEVENT
END:VCALENDAR