BEGIN:VCALENDAR
VERSION:2.0
PRODID:-//TechFluent Academy - ECPv6.15.11//NONSGML v1.0//EN
CALSCALE:GREGORIAN
METHOD:PUBLISH
X-WR-CALNAME:TechFluent Academy
X-ORIGINAL-URL:https://techfluentacademy.org
X-WR-CALDESC:Events for TechFluent Academy
REFRESH-INTERVAL;VALUE=DURATION:PT1H
X-Robots-Tag:noindex
X-PUBLISHED-TTL:PT1H
BEGIN:VTIMEZONE
TZID:America/Chicago
BEGIN:DAYLIGHT
TZOFFSETFROM:-0600
TZOFFSETTO:-0500
TZNAME:CDT
DTSTART:20250309T080000
END:DAYLIGHT
BEGIN:STANDARD
TZOFFSETFROM:-0500
TZOFFSETTO:-0600
TZNAME:CST
DTSTART:20251102T070000
END:STANDARD
BEGIN:DAYLIGHT
TZOFFSETFROM:-0600
TZOFFSETTO:-0500
TZNAME:CDT
DTSTART:20260308T080000
END:DAYLIGHT
BEGIN:STANDARD
TZOFFSETFROM:-0500
TZOFFSETTO:-0600
TZNAME:CST
DTSTART:20261101T070000
END:STANDARD
BEGIN:DAYLIGHT
TZOFFSETFROM:-0600
TZOFFSETTO:-0500
TZNAME:CDT
DTSTART:20270314T080000
END:DAYLIGHT
BEGIN:STANDARD
TZOFFSETFROM:-0500
TZOFFSETTO:-0600
TZNAME:CST
DTSTART:20271107T070000
END:STANDARD
END:VTIMEZONE
BEGIN:VEVENT
DTSTART;TZID=America/Chicago:20260123T090000
DTEND;TZID=America/Chicago:20260123T160000
DTSTAMP:20260422T075810
CREATED:20250618T031810Z
LAST-MODIFIED:20251113T165556Z
UID:5858-1769158800-1769184000@techfluentacademy.org
SUMMARY:Intro to Fabric\, with Jessica Jolly
DESCRIPTION:Introduction to Fabric \nwith Jessica Jolly \nData Quilter specializing in Microsoft Fabric \nIn this session\, adult learners will gain a foundational understanding of Microsoft Fabric and its role in modern business environments. Participants will explore core functionalities\, including data integration\, analytics\, and collaboration features. Through interactive discussions\, practical demonstrations\, and guided exercises\, learners will develop the skills needed to effectively apply Microsoft Fabric in real-world scenarios. By the end of the session\, attendees will be prepared to tackle key topics covered in the MB-920 certification exam with confidence\, enhancing their ability to leverage Microsoft Fabric within Microsoft Dynamics 365 solutions. Ideal for professionals seeking to strengthen their expertise in business applications and data management.
URL:https://techfluentacademy.org/event/intro-to-fabric-with-jessica-jolly/
LOCATION:Sabathani Community Center\, 310 E. 38th Street\, Minneapolis\, MN\, 55409\, United States
CATEGORIES:2025 Cohort,Power BI Certification Track
ORGANIZER;CN="TechFluent Academy":MAILTO:carol@techfluentacademy.org
END:VEVENT
END:VCALENDAR