BEGIN:VCALENDAR
VERSION:2.0
PRODID:-//TechFluent Academy - ECPv6.15.11//NONSGML v1.0//EN
CALSCALE:GREGORIAN
METHOD:PUBLISH
X-ORIGINAL-URL:https://techfluentacademy.org
X-WR-CALDESC:Events for TechFluent Academy
REFRESH-INTERVAL;VALUE=DURATION:PT1H
X-Robots-Tag:noindex
X-PUBLISHED-TTL:PT1H
BEGIN:VTIMEZONE
TZID:America/Chicago
BEGIN:DAYLIGHT
TZOFFSETFROM:-0600
TZOFFSETTO:-0500
TZNAME:CDT
DTSTART:20240310T080000
END:DAYLIGHT
BEGIN:STANDARD
TZOFFSETFROM:-0500
TZOFFSETTO:-0600
TZNAME:CST
DTSTART:20241103T070000
END:STANDARD
BEGIN:DAYLIGHT
TZOFFSETFROM:-0600
TZOFFSETTO:-0500
TZNAME:CDT
DTSTART:20250309T080000
END:DAYLIGHT
BEGIN:STANDARD
TZOFFSETFROM:-0500
TZOFFSETTO:-0600
TZNAME:CST
DTSTART:20251102T070000
END:STANDARD
BEGIN:DAYLIGHT
TZOFFSETFROM:-0600
TZOFFSETTO:-0500
TZNAME:CDT
DTSTART:20260308T080000
END:DAYLIGHT
BEGIN:STANDARD
TZOFFSETFROM:-0500
TZOFFSETTO:-0600
TZNAME:CST
DTSTART:20261101T070000
END:STANDARD
END:VTIMEZONE
BEGIN:VEVENT
DTSTART;TZID=America/Chicago:20250908T090000
DTEND;TZID=America/Chicago:20250908T160000
DTSTAMP:20260423T231644
CREATED:20250615T231149Z
LAST-MODIFIED:20251113T165713Z
UID:5707-1757322000-1757347200@techfluentacademy.org
SUMMARY:Intro to Customer Service\, with Daniel Meindertsma MS\, CSM
DESCRIPTION:Introduction to Customer Service \nwith Daniel Meindertsma  \nMicrosoft CE Senior Solution Architect at Centric Consulting  \nIn this session\, we will explain the Customer Service apps\, what for and how they are used in the Modern Workplace. By the end of this course\, you will be able to navigate the entire module and understand all of the Customer Service Apps. You will be introduced to the Common Terms and features of the Customer Service App. You will learn the commonly used tables and features in the Common Service area of the Customer Service Center. You will be given a tour of the Customer Service Admin Center. You will review the Customer Service Default Business Process Flow including Service Level Agreements and Entitlements\, Knowledge Base Articles\, Queues and Routing Rules. And\, finally\, you will be introduced to the Customer Service Workspace App. \n  \nNOTE ABOUT Live Virtual Delivery of Class: This class will be delivered Live Virtual\, which means the Instructor will not be present in the classroom. We strongly encourage all students to be present in the classroom as we will still have 2 Trainer Assistants present to assist with Lab Exercises and this material is quite intensive. However\, if you feel you will learn best attending from a Virtual Location\, you may make PRE-ARRANGEMENTS with the Program Manager 1 week in advance to attend Live Virtual. You are expected to be ENGAGED throughout the class – which means you will need to be commenting on the instruction\, asking questions in the Chat and interacting throughout the entire day with responses and emojis to the instructor in the Chat. Failure to be engaged will require that you attend all future Live Virtual Classes in person. This is non-negotiable. \n  \nThis course was developed by Michael Hauck of congruentX.
URL:https://techfluentacademy.org/event/intro-to-customer-service/
LOCATION:Sabathani Community Center\, 310 E. 38th Street\, Minneapolis\, MN\, 55409\, United States
CATEGORIES:2025 Cohort,CE-Power Platform Certification Track
ORGANIZER;CN="TechFluent Academy":MAILTO:carol@techfluentacademy.org
END:VEVENT
END:VCALENDAR