BEGIN:VCALENDAR
VERSION:2.0
PRODID:-//TechFluent Academy - ECPv6.15.11//NONSGML v1.0//EN
CALSCALE:GREGORIAN
METHOD:PUBLISH
X-ORIGINAL-URL:https://techfluentacademy.org
X-WR-CALDESC:Events for TechFluent Academy
REFRESH-INTERVAL;VALUE=DURATION:PT1H
X-Robots-Tag:noindex
X-PUBLISHED-TTL:PT1H
BEGIN:VTIMEZONE
TZID:America/Chicago
BEGIN:DAYLIGHT
TZOFFSETFROM:-0600
TZOFFSETTO:-0500
TZNAME:CDT
DTSTART:20240310T080000
END:DAYLIGHT
BEGIN:STANDARD
TZOFFSETFROM:-0500
TZOFFSETTO:-0600
TZNAME:CST
DTSTART:20241103T070000
END:STANDARD
BEGIN:DAYLIGHT
TZOFFSETFROM:-0600
TZOFFSETTO:-0500
TZNAME:CDT
DTSTART:20250309T080000
END:DAYLIGHT
BEGIN:STANDARD
TZOFFSETFROM:-0500
TZOFFSETTO:-0600
TZNAME:CST
DTSTART:20251102T070000
END:STANDARD
BEGIN:DAYLIGHT
TZOFFSETFROM:-0600
TZOFFSETTO:-0500
TZNAME:CDT
DTSTART:20260308T080000
END:DAYLIGHT
BEGIN:STANDARD
TZOFFSETFROM:-0500
TZOFFSETTO:-0600
TZNAME:CST
DTSTART:20261101T070000
END:STANDARD
END:VTIMEZONE
BEGIN:VEVENT
DTSTART;TZID=America/Chicago:20251006T090000
DTEND;TZID=America/Chicago:20251006T130000
DTSTAMP:20260422T105934
CREATED:20250616T014430Z
LAST-MODIFIED:20251113T165713Z
UID:5747-1759741200-1759755600@techfluentacademy.org
SUMMARY:Self-Study: Master Microsoft Word\, Day 1
DESCRIPTION:Self-Study: Master Microsoft Word (8 hours total) \nProficiency in Microsoft Word is one of the most in-demand software skills today. This learning path helps you become a power user in Word. Discover how to create forms\, format documents\, use built-in templates\, and more. Use Word’s powerful features and functions with ease. Create and edit forms. Utilize Word’s built-in styles and templates. \nRecommend completing 4 hours in Day 1.
URL:https://techfluentacademy.org/event/self-study-master-microsoft-word/
CATEGORIES:2025 Cohort,Microsoft Fundamentals
ORGANIZER;CN="TechFluent Academy":MAILTO:carol@techfluentacademy.org
END:VEVENT
BEGIN:VEVENT
DTSTART;TZID=America/Chicago:20251007T090000
DTEND;TZID=America/Chicago:20251007T130000
DTSTAMP:20260422T105934
CREATED:20250616T015224Z
LAST-MODIFIED:20251113T165713Z
UID:5752-1759827600-1759842000@techfluentacademy.org
SUMMARY:Self-Study: Master Microsoft Word\, Day 2
DESCRIPTION:Self-Study: Master Microsoft Word (8 hours total) \nProficiency in Microsoft Word is one of the most in-demand software skills today. This learning path helps you become a power user in Word. Discover how to create forms\, format documents\, use built-in templates\, and more. Use Word’s powerful features and functions with ease. Create and edit forms. Utilize Word’s built-in styles and templates. \nRecommend completing 4 hours on Day 2.
URL:https://techfluentacademy.org/event/self-study-master-microsoft-word-day-2/
CATEGORIES:2025 Cohort,Microsoft Fundamentals
ORGANIZER;CN="TechFluent Academy":MAILTO:carol@techfluentacademy.org
END:VEVENT
BEGIN:VEVENT
DTSTART;TZID=America/Chicago:20251009T090000
DTEND;TZID=America/Chicago:20251009T120000
DTSTAMP:20260422T105934
CREATED:20250616T015730Z
LAST-MODIFIED:20251113T165713Z
UID:5756-1760000400-1760011200@techfluentacademy.org
SUMMARY:Self-Study: Master Microsoft Excel\, Day 3
DESCRIPTION:Master Microsoft Excel (13 hours total) \nEmployers around the world cite Microsoft Excel as one of the most sought-after skills for any new hire. This learning path helps you become an Excel power user—covering everything from functions and formatting to PivotTables and dashboards. Master the powerful features and functions in Excel. Learn how to use Excel’s robust built-in formulas. Get up to speed on PivotTables\, dashboards\, and Power Query. \nRecommend completing 3 hours on Day 3.
URL:https://techfluentacademy.org/event/self-study-master-microsoft-excel-day-3/
CATEGORIES:2025 Cohort,Microsoft Fundamentals
ORGANIZER;CN="TechFluent Academy":MAILTO:carol@techfluentacademy.org
END:VEVENT
BEGIN:VEVENT
DTSTART;TZID=America/Chicago:20251008T090000
DTEND;TZID=America/Chicago:20251008T130000
DTSTAMP:20260422T105934
CREATED:20250616T015544Z
LAST-MODIFIED:20251113T165713Z
UID:5754-1759914000-1759928400@techfluentacademy.org
SUMMARY:Self-Study: Master Microsoft Excel\, Day 2
DESCRIPTION:Master Microsoft Excel (13 hours total) \nEmployers around the world cite Microsoft Excel as one of the most sought-after skills for any new hire. This learning path helps you become an Excel power user—covering everything from functions and formatting to PivotTables and dashboards. Master the powerful features and functions in Excel. Learn how to use Excel’s robust built-in formulas. Get up to speed on PivotTables\, dashboards\, and Power Query. \nRecommend completing 5 hours on Day 2.
URL:https://techfluentacademy.org/event/self-study-master-microsoft-excel-day-2/
CATEGORIES:2025 Cohort,Microsoft Fundamentals
ORGANIZER;CN="TechFluent Academy":MAILTO:carol@techfluentacademy.org
END:VEVENT
BEGIN:VEVENT
DTSTART;TZID=America/Chicago:20251010T090000
DTEND;TZID=America/Chicago:20251010T130000
DTSTAMP:20260422T105934
CREATED:20250616T020347Z
LAST-MODIFIED:20251113T165713Z
UID:5760-1760086800-1760101200@techfluentacademy.org
SUMMARY:Self-Study: Mastering Microsoft PowerPoint
DESCRIPTION:Self-Study: Mastering Microsoft Powerpoint (9.5 hours total) \nProficiency in Microsoft PowerPoint is an essential skill for many careers. Discover how to create more polished and professional presentations by mastering PowerPoint. Learn to use the features and built-in tools in PowerPoint. Design better slides\, using animations and rich media. Enhance presentations with visualizations and storytelling. \nRecommend completing 5 hours on Day 1.
URL:https://techfluentacademy.org/event/self-study-mastering-microsoft-powerpoint/
CATEGORIES:2025 Cohort,Microsoft Fundamentals
ORGANIZER;CN="TechFluent Academy":MAILTO:carol@techfluentacademy.org
END:VEVENT
BEGIN:VEVENT
DTSTART;TZID=America/Chicago:20251013T090000
DTEND;TZID=America/Chicago:20251013T123000
DTSTAMP:20260422T105934
CREATED:20250616T020717Z
LAST-MODIFIED:20251113T165713Z
UID:5762-1760346000-1760358600@techfluentacademy.org
SUMMARY:Self-Study: Mastering Microsoft Powerpoint\, Day 2
DESCRIPTION:Self-Study: Mastering Microsoft Powerpoint (9.5 hours total) \nProficiency in Microsoft PowerPoint is an essential skill for many careers. Discover how to create more polished and professional presentations by mastering PowerPoint. Learn to use the features and built-in tools in PowerPoint. Design better slides\, using animations and rich media. Enhance presentations with visualizations and storytelling. \nRecommend completing 4.5 hours on Day 2.
URL:https://techfluentacademy.org/event/self-study-mastering-microsoft-powerpoint-day-2/
CATEGORIES:2025 Cohort,Microsoft Fundamentals
ORGANIZER;CN="TechFluent Academy":MAILTO:carol@techfluentacademy.org
END:VEVENT
BEGIN:VEVENT
DTSTART;TZID=America/Chicago:20251027T090000
DTEND;TZID=America/Chicago:20251027T160000
DTSTAMP:20260422T105934
CREATED:20250616T045629Z
LAST-MODIFIED:20251113T165712Z
UID:5791-1761555600-1761580800@techfluentacademy.org
SUMMARY:Self-Study: Financial Literacy - Part 1
DESCRIPTION:Self-Study: Financial Literacy – Part 1 \n  \nManaging Your Personal Finances (1 hr) \nFinancial Basics Everyone Should Know (1hr 50m) \nFinancial Adulting (1h) \nFinance Foundations: Income Taxes (2h)
URL:https://techfluentacademy.org/event/self-study-financial-literacy-part-1/
CATEGORIES:2025 Cohort,Financial Literacy
ORGANIZER;CN="TechFluent Academy":MAILTO:carol@techfluentacademy.org
END:VEVENT
BEGIN:VEVENT
DTSTART;TZID=America/Chicago:20251029T090000
DTEND;TZID=America/Chicago:20251029T160000
DTSTAMP:20260422T105934
CREATED:20250616T045205Z
LAST-MODIFIED:20251113T165712Z
UID:5793-1761728400-1761753600@techfluentacademy.org
SUMMARY:Self-Study: Financial Literacy - Part 2
DESCRIPTION:Self-Study: Financial Literacy – Part 2 \n  \nPersonal Finance Tips Weekly (2h 50m) \nFinancial Literacy: 401k\, 403b and Self-Directed IRAs (45m) \nBuild Sustainable Wealth & Get Out of Debt (1h 16m) \nEvaluating College as an Investment (42m)
URL:https://techfluentacademy.org/event/self-study-financial-literacy-part-2/
CATEGORIES:2025 Cohort,Financial Literacy
ORGANIZER;CN="TechFluent Academy":MAILTO:carol@techfluentacademy.org
END:VEVENT
BEGIN:VEVENT
DTSTART;TZID=America/Chicago:20251030T090000
DTEND;TZID=America/Chicago:20251030T133000
DTSTAMP:20260422T105934
CREATED:20250616T045439Z
LAST-MODIFIED:20251113T165712Z
UID:5795-1761814800-1761831000@techfluentacademy.org
SUMMARY:Self-Study: Financial Literacy - Part 3
DESCRIPTION:Self-Study: Financial Literacy – Part 3 \n  \nEconomics for Everyone: Understanding a Recession (40m) \nReal Estate Analytics (49m) \nReal Estate: Negotiating with Sellers (1h) \nAnalyzing a Real Estate Deal (35m) \nReal Estate Contracts (27m) \nReal Estate: Estimating Repair Costs (49m)
URL:https://techfluentacademy.org/event/self-study-financial-literacy-part-3/
CATEGORIES:2025 Cohort,Financial Literacy
ORGANIZER;CN="TechFluent Academy":MAILTO:carol@techfluentacademy.org
END:VEVENT
END:VCALENDAR